BEGIN:VCALENDAR
VERSION:2.0
PRODID:-//MaRo Games - ECPv6.15.20//NONSGML v1.0//EN
CALSCALE:GREGORIAN
METHOD:PUBLISH
X-ORIGINAL-URL:https://maro-games.ch
X-WR-CALDESC:Veranstaltungen für MaRo Games
REFRESH-INTERVAL;VALUE=DURATION:PT1H
X-Robots-Tag:noindex
X-PUBLISHED-TTL:PT1H
BEGIN:VTIMEZONE
TZID:Europe/Zurich
BEGIN:DAYLIGHT
TZOFFSETFROM:+0100
TZOFFSETTO:+0200
TZNAME:CEST
DTSTART:20240331T010000
END:DAYLIGHT
BEGIN:STANDARD
TZOFFSETFROM:+0200
TZOFFSETTO:+0100
TZNAME:CET
DTSTART:20241027T010000
END:STANDARD
BEGIN:DAYLIGHT
TZOFFSETFROM:+0100
TZOFFSETTO:+0200
TZNAME:CEST
DTSTART:20250330T010000
END:DAYLIGHT
BEGIN:STANDARD
TZOFFSETFROM:+0200
TZOFFSETTO:+0100
TZNAME:CET
DTSTART:20251026T010000
END:STANDARD
BEGIN:DAYLIGHT
TZOFFSETFROM:+0100
TZOFFSETTO:+0200
TZNAME:CEST
DTSTART:20260329T010000
END:DAYLIGHT
BEGIN:STANDARD
TZOFFSETFROM:+0200
TZOFFSETTO:+0100
TZNAME:CET
DTSTART:20261025T010000
END:STANDARD
END:VTIMEZONE
BEGIN:VEVENT
DTSTART;TZID=Europe/Zurich:20251107T190000
DTEND;TZID=Europe/Zurich:20251107T233000
DTSTAMP:20260423T063854
CREATED:20251002T160436Z
LAST-MODIFIED:20251108T092746Z
UID:10000722-1762542000-1762558200@maro-games.ch
SUMMARY:Prerelease: Star Wars: Unlimited -  Secrets of Power Prerelease - MaRo Games  7.11.25
DESCRIPTION:Achtung  Teilnehmer benötigen einen Melee Account :  https://melee.gg/ \nRegistrierungslink:https://melee.gg/Tournament/View/363796 \nFormat:  Sealed   \nEinsatz : 30.- SFR    ( Darin enthalten 1 Prerelease Pack mit 6  –Secrets of Power ) \nTurnierstart:  19.00 \nEnglische Karten \nRegeln \, Demos etc  siehe unter :  https://starwarsunlimited.com/ \nPreise:  Pro Rundensieg 1 Booster  – Secrets of Power \, für  Spieler mit 0/1/2  Punkte gibt es am Schluss des Turniers ebenfalls ein Booster  – LSecrets of Power   :
URL:https://maro-games.ch/event/prerelease-star-wars-unlimited-secrets-of-power-prerelease-maro-games-7-11-25/
CATEGORIES:Star Wars
ATTACH;FMTTYPE=image/jpeg:https://maro-games.ch/wp-content/uploads/2025/10/secrets.jpg
END:VEVENT
END:VCALENDAR