BEGIN:VCALENDAR
VERSION:2.0
PRODID:-//MaRo Games - ECPv6.15.20//NONSGML v1.0//EN
CALSCALE:GREGORIAN
METHOD:PUBLISH
X-ORIGINAL-URL:https://maro-games.ch
X-WR-CALDESC:Veranstaltungen für MaRo Games
REFRESH-INTERVAL;VALUE=DURATION:PT1H
X-Robots-Tag:noindex
X-PUBLISHED-TTL:PT1H
BEGIN:VTIMEZONE
TZID:Europe/Zurich
BEGIN:DAYLIGHT
TZOFFSETFROM:+0100
TZOFFSETTO:+0200
TZNAME:CEST
DTSTART:20240331T010000
END:DAYLIGHT
BEGIN:STANDARD
TZOFFSETFROM:+0200
TZOFFSETTO:+0100
TZNAME:CET
DTSTART:20241027T010000
END:STANDARD
BEGIN:DAYLIGHT
TZOFFSETFROM:+0100
TZOFFSETTO:+0200
TZNAME:CEST
DTSTART:20250330T010000
END:DAYLIGHT
BEGIN:STANDARD
TZOFFSETFROM:+0200
TZOFFSETTO:+0100
TZNAME:CET
DTSTART:20251026T010000
END:STANDARD
BEGIN:DAYLIGHT
TZOFFSETFROM:+0100
TZOFFSETTO:+0200
TZNAME:CEST
DTSTART:20260329T010000
END:DAYLIGHT
BEGIN:STANDARD
TZOFFSETFROM:+0200
TZOFFSETTO:+0100
TZNAME:CET
DTSTART:20261025T010000
END:STANDARD
END:VTIMEZONE
BEGIN:VEVENT
DTSTART;TZID=Europe/Zurich:20250704T190000
DTEND;TZID=Europe/Zurich:20250704T233000
DTSTAMP:20260423T132348
CREATED:20250629T071115Z
LAST-MODIFIED:20250629T071115Z
UID:10000611-1751655600-1751671800@maro-games.ch
SUMMARY:Prerelease: Star Wars: Unlimited -  Legends of the Force  4.7.25
DESCRIPTION:Achtung  Teilnehmer benötigen einen Melee Account :  https://melee.gg/ \nRegistrierungslink: https://melee.gg/Tournament/View/310580\n \nFormat:  Sealed   \nEinsatz : 30.- SFR    ( Darin enthalten 1 Prerelease Pack mit 6  –Legends of the Force ) \nTurnierstart:  19.00 \nEnglische Karten \nRegeln \, Demos etc  siehe unter :  https://starwarsunlimited.com/ \nPreise:  Pro Rundensieg 1 Booster  – Legends of the Force  \, für  Spieler mit 0/1/2  Punkte gibt es am Schluss des Turniers ebenfalls ein Booster  – Legends of the Force  :
URL:https://maro-games.ch/event/prerelease-star-wars-unlimited-legends-of-the-force-4-7-25/
CATEGORIES:Star Wars
ATTACH;FMTTYPE=image/webp:https://maro-games.ch/wp-content/uploads/2025/06/star-wars-unlimited-legends-of-the-force-prerelease-event-thursday-464.webp
END:VEVENT
END:VCALENDAR