BEGIN:VCALENDAR
VERSION:2.0
PRODID:-//MaRo Games - ECPv6.15.20//NONSGML v1.0//EN
CALSCALE:GREGORIAN
METHOD:PUBLISH
X-ORIGINAL-URL:https://maro-games.ch
X-WR-CALDESC:Veranstaltungen für MaRo Games
REFRESH-INTERVAL;VALUE=DURATION:PT1H
X-Robots-Tag:noindex
X-PUBLISHED-TTL:PT1H
BEGIN:VTIMEZONE
TZID:Europe/Zurich
BEGIN:DAYLIGHT
TZOFFSETFROM:+0100
TZOFFSETTO:+0200
TZNAME:CEST
DTSTART:20230326T010000
END:DAYLIGHT
BEGIN:STANDARD
TZOFFSETFROM:+0200
TZOFFSETTO:+0100
TZNAME:CET
DTSTART:20231029T010000
END:STANDARD
BEGIN:DAYLIGHT
TZOFFSETFROM:+0100
TZOFFSETTO:+0200
TZNAME:CEST
DTSTART:20240331T010000
END:DAYLIGHT
BEGIN:STANDARD
TZOFFSETFROM:+0200
TZOFFSETTO:+0100
TZNAME:CET
DTSTART:20241027T010000
END:STANDARD
BEGIN:DAYLIGHT
TZOFFSETFROM:+0100
TZOFFSETTO:+0200
TZNAME:CEST
DTSTART:20250330T010000
END:DAYLIGHT
BEGIN:STANDARD
TZOFFSETFROM:+0200
TZOFFSETTO:+0100
TZNAME:CET
DTSTART:20251026T010000
END:STANDARD
END:VTIMEZONE
BEGIN:VEVENT
DTSTART;TZID=Europe/Zurich:20241215T140000
DTEND;TZID=Europe/Zurich:20241215T193000
DTSTAMP:20260424T010746
CREATED:20241207T081109Z
LAST-MODIFIED:20241207T082004Z
UID:10000159-1734271200-1734291000@maro-games.ch
SUMMARY:Star Wars Unlimited Shadows of the Galaxy Store Showdown
DESCRIPTION:Achtung  Teilnehmer benötigen einen Melee Account :  https://melee.gg/ \nRegistrierungslink: https://melee.gg/Tournament/View/161675 \nTournament start : 14.00\nDoor opens: 13.30\nTournament entry; 20.- SFR\nFormat: Swiss (Number of rounds based on attendance)\nbest-of-three games in a 55-minute round. \nPrices: 2 Booster per player in the price pool\nAdditionally\, all participating players will receive promo cards\, with special promos awarded to those who reach the Top 8\, Top 4\, Final Round\, and emerge as the Champion! \n  \nRegeln \, Demos etc  siehe unter :  https://starwarsunlimited.com/ \n 
URL:https://maro-games.ch/event/star-wars-unlimited-shadows-of-the-galaxy-store-showdown/
CATEGORIES:Star Wars
ATTACH;FMTTYPE=image/jpeg:https://maro-games.ch/wp-content/uploads/2024/11/star-wars-galaxy-3.jpg
END:VEVENT
END:VCALENDAR