BEGIN:VCALENDAR
VERSION:2.0
PRODID:-//MaRo Games - ECPv6.15.20//NONSGML v1.0//EN
CALSCALE:GREGORIAN
METHOD:PUBLISH
X-ORIGINAL-URL:https://maro-games.ch
X-WR-CALDESC:Veranstaltungen für MaRo Games
REFRESH-INTERVAL;VALUE=DURATION:PT1H
X-Robots-Tag:noindex
X-PUBLISHED-TTL:PT1H
BEGIN:VTIMEZONE
TZID:Europe/Zurich
BEGIN:DAYLIGHT
TZOFFSETFROM:+0100
TZOFFSETTO:+0200
TZNAME:CEST
DTSTART:20240331T010000
END:DAYLIGHT
BEGIN:STANDARD
TZOFFSETFROM:+0200
TZOFFSETTO:+0100
TZNAME:CET
DTSTART:20241027T010000
END:STANDARD
BEGIN:DAYLIGHT
TZOFFSETFROM:+0100
TZOFFSETTO:+0200
TZNAME:CEST
DTSTART:20250330T010000
END:DAYLIGHT
BEGIN:STANDARD
TZOFFSETFROM:+0200
TZOFFSETTO:+0100
TZNAME:CET
DTSTART:20251026T010000
END:STANDARD
BEGIN:DAYLIGHT
TZOFFSETFROM:+0100
TZOFFSETTO:+0200
TZNAME:CEST
DTSTART:20260329T010000
END:DAYLIGHT
BEGIN:STANDARD
TZOFFSETFROM:+0200
TZOFFSETTO:+0100
TZNAME:CET
DTSTART:20261025T010000
END:STANDARD
END:VTIMEZONE
BEGIN:VEVENT
DTSTART;TZID=Europe/Zurich:20251128T190000
DTEND;TZID=Europe/Zurich:20251128T220000
DTSTAMP:20260422T195203
CREATED:20251125T194955Z
LAST-MODIFIED:20251126T072743Z
UID:10000737-1764356400-1764367200@maro-games.ch
SUMMARY:Riftbound - Nexus Night
DESCRIPTION:Friday Nexus Night! lets battle! \nTurnierstart: 19:00 \nEinsatz: CHF 15.– \nFix 4 Runden mit folgender Preisverteilung: \nMaRo Credits Punkte\n40 12\n25 10\n15 9 \nPlus Nexus Night Packs for Top Players \n  \nAnmeldung:  über die Rifbound Turnier Seite:  https://locator.riftbound.uvsgames.com/events/278377
URL:https://maro-games.ch/event/riftbound-nexus-night/
CATEGORIES:Riftbound
ATTACH;FMTTYPE=image/jpeg:https://maro-games.ch/wp-content/uploads/2025/11/riftbound.jpg
END:VEVENT
END:VCALENDAR