BEGIN:VCALENDAR
VERSION:2.0
PRODID:-//MaRo Games - ECPv6.15.20//NONSGML v1.0//EN
CALSCALE:GREGORIAN
METHOD:PUBLISH
X-WR-CALNAME:MaRo Games
X-ORIGINAL-URL:https://maro-games.ch
X-WR-CALDESC:Veranstaltungen für MaRo Games
REFRESH-INTERVAL;VALUE=DURATION:PT1H
X-Robots-Tag:noindex
X-PUBLISHED-TTL:PT1H
BEGIN:VTIMEZONE
TZID:Europe/Zurich
BEGIN:DAYLIGHT
TZOFFSETFROM:+0100
TZOFFSETTO:+0200
TZNAME:CEST
DTSTART:20230326T010000
END:DAYLIGHT
BEGIN:STANDARD
TZOFFSETFROM:+0200
TZOFFSETTO:+0100
TZNAME:CET
DTSTART:20231029T010000
END:STANDARD
BEGIN:DAYLIGHT
TZOFFSETFROM:+0100
TZOFFSETTO:+0200
TZNAME:CEST
DTSTART:20240331T010000
END:DAYLIGHT
BEGIN:STANDARD
TZOFFSETFROM:+0200
TZOFFSETTO:+0100
TZNAME:CET
DTSTART:20241027T010000
END:STANDARD
BEGIN:DAYLIGHT
TZOFFSETFROM:+0100
TZOFFSETTO:+0200
TZNAME:CEST
DTSTART:20250330T010000
END:DAYLIGHT
BEGIN:STANDARD
TZOFFSETFROM:+0200
TZOFFSETTO:+0100
TZNAME:CET
DTSTART:20251026T010000
END:STANDARD
END:VTIMEZONE
BEGIN:VEVENT
DTSTART;TZID=Europe/Zurich:20241215T110000
DTEND;TZID=Europe/Zurich:20241215T220000
DTSTAMP:20260423T135835
CREATED:20241207T081328Z
LAST-MODIFIED:20241207T082144Z
UID:10000107-1734260400-1734300000@maro-games.ch
SUMMARY:European Magic Series RCQ 2 Round 9  Format :  Standard  Top 8 -  for Bologna  25-27.4.25
DESCRIPTION:Attention limited places tickets over : https://www.maro-shop.ch/products/european-magic-series-rcq-2-round-9-format-standard-top-8-for-bologna-25-27-4-25\n\nThe format will be Standard  with  top 8\n\nDoor opens : 10.30\nStart : 11.00Format : Standard   (swiss with top 8 )Entry Fee : 30  CHF\nPrizes : 3 Play Booster Foundations per player in the pricepool\n\nThe winner qualified for  Regiona Champs in Bologna  https://www.fanfinity.gg/event/ug-european-magic-series-regional-championship-bologna/\n \n1.                 Winner Promo card – foil Force of Despair\n1-16.            Finisher Promo cards – non-foil Force of Despair\n1- 32.          Participation Promo cards – non-foil Mayhem Devil
URL:https://maro-games.ch/event/european-magic-series-rcq-format-modern-top-8-for-prague-24-26-1-25/
CATEGORIES:Magic
ATTACH;FMTTYPE=image/jpeg:https://maro-games.ch/wp-content/uploads/2024/09/rcq.jpg
END:VEVENT
END:VCALENDAR