BEGIN:VCALENDAR
VERSION:2.0
PRODID:-//MaRo Games - ECPv6.15.20//NONSGML v1.0//EN
CALSCALE:GREGORIAN
METHOD:PUBLISH
X-ORIGINAL-URL:https://maro-games.ch
X-WR-CALDESC:Veranstaltungen für MaRo Games
REFRESH-INTERVAL;VALUE=DURATION:PT1H
X-Robots-Tag:noindex
X-PUBLISHED-TTL:PT1H
BEGIN:VTIMEZONE
TZID:Europe/Zurich
BEGIN:DAYLIGHT
TZOFFSETFROM:+0100
TZOFFSETTO:+0200
TZNAME:CEST
DTSTART:20240331T010000
END:DAYLIGHT
BEGIN:STANDARD
TZOFFSETFROM:+0200
TZOFFSETTO:+0100
TZNAME:CET
DTSTART:20241027T010000
END:STANDARD
BEGIN:DAYLIGHT
TZOFFSETFROM:+0100
TZOFFSETTO:+0200
TZNAME:CEST
DTSTART:20250330T010000
END:DAYLIGHT
BEGIN:STANDARD
TZOFFSETFROM:+0200
TZOFFSETTO:+0100
TZNAME:CET
DTSTART:20251026T010000
END:STANDARD
BEGIN:DAYLIGHT
TZOFFSETFROM:+0100
TZOFFSETTO:+0200
TZNAME:CEST
DTSTART:20260329T010000
END:DAYLIGHT
BEGIN:STANDARD
TZOFFSETFROM:+0200
TZOFFSETTO:+0100
TZNAME:CET
DTSTART:20261025T010000
END:STANDARD
END:VTIMEZONE
BEGIN:VEVENT
DTSTART;TZID=Europe/Zurich:20250919T140000
DTEND;TZID=Europe/Zurich:20250919T180000
DTSTAMP:20260421T123901
CREATED:20250912T043316Z
LAST-MODIFIED:20250912T050020Z
UID:10000671-1758290400-1758304800@maro-games.ch
SUMMARY:Prerelease Turnier : Spiderman  (Freitag 19.9.25 ; 14.00) \, jeder gewinnt;)
DESCRIPTION:Platzreservierung/Turniereinsatz mit 5.- Rabatt  über : https://www.maro-shop.ch/products/prerelease-turnier-magic-marvel-spider-man-freitag-19-09-2025-14-00-jeder-gewinnt \nTüröffnung:  13.30 \nTurnierstart : 14.00 \nEinsatz CHF 45.-  vor Ort \,  über Shop bei Vorauszahlung 40.- \nSprache : Deutsch \nPreise:  Pro Rundensieg 1 Booster \, für  Spieler mit 0/1/2  Punkte gibt es am Schluss des Turniers ebenfalls ein Preisbooster : \nFormat:  Sealed     ( 1 Prerelease Pack pro Spieler  darin unter anderem enthalten  6 Booster  / W20 / Foil Rare ) \nRules Enforcement Level: Regular  ( Anfänger Willkommen  \, wir spielen zum Spass ) \nAchtung limitierte Platzzahl !   \nTeilnehmer benötigen einen Wizards account :    \nhttps://myaccounts.wizards.com/login
URL:https://maro-games.ch/event/prerelease-turnier-spiderman-freitag-19-9-25-14-00-jeder-gewinnt/
CATEGORIES:Magic
ATTACH;FMTTYPE=image/png:https://maro-games.ch/wp-content/uploads/2025/08/Spider-2.png
END:VEVENT
BEGIN:VEVENT
DTSTART;TZID=Europe/Zurich:20250919T183000
DTEND;TZID=Europe/Zurich:20250920T010000
DTSTAMP:20260421T123901
CREATED:20250912T043218Z
LAST-MODIFIED:20250912T045956Z
UID:10000672-1758306600-1758330000@maro-games.ch
SUMMARY:Prerelease Turnier : Spiderman  (Freitag 19.9.25 ; 18.30)
DESCRIPTION:Platzreservierung/Turniereinsatz mit 5.- Rabatt  über :  https://www.maro-shop.ch/products/prerelease-turnier-magic-marvel-spider-man-freitag-19-09-2025-18-30 \nTüröffnung:  18.00 \nTurnierstart : 18.30 \nEinsatz CHF 45.- vor Ort über Shop bei Vorauszahlung 40.- \nSprache : Deutsch \nPreise: 2  Booster pro Spieler im Preispool. (no store credits )\n \nFormat:  Sealed     ( 1 Prerelease Pack pro Spieler  darin unter anderem enthalten  6 Booster  / W20 / Foil Rare ) \nRules Enforcement Level: Regular  ( Anfänger Willkommen  \, wir spielen zum Spass ) \nAchtung limitierte Platzzahl !   \nTeilnehmer benötigen einen Wizards account :    \nhttps://myaccounts.wizards.com/login
URL:https://maro-games.ch/event/prerelease-turnier-spiderman-freitag-19-9-25-18-30/
CATEGORIES:Magic
ATTACH;FMTTYPE=image/png:https://maro-games.ch/wp-content/uploads/2025/08/Spider-2.png
END:VEVENT
BEGIN:VEVENT
DTSTART;TZID=Europe/Zurich:20250920T170000
DTEND;TZID=Europe/Zurich:20250920T220000
DTSTAMP:20260421T123901
CREATED:20250912T043116Z
LAST-MODIFIED:20250912T045930Z
UID:10000674-1758387600-1758405600@maro-games.ch
SUMMARY:Prerelease Turnier : Spiderman  (Samstag 20.9.25 ; 17.00)
DESCRIPTION:Platzreservierung/Turniereinsatz mit 5.- Rabatt  über :  https://www.maro-shop.ch/products/prerelease-turnier-magic-marvel-spider-man-samstag-20-09-2025-17-00 \nTüröffnung:  16.30 \nTurnierstart : 17.00 \nEinsatz CHF 45.- vor Ort –  über Shop bei Vorauszahlung 40.- \nSprache : Deutsch\nPreise: 2  Deutsche Play- Booster pro Spieler im Preispool. (no store credits )\n \nFormat:  Sealed     ( 1 Prerelease Pack pro Spieler  darin unter anderem enthalten  6 Booster  / W20 / Foil Rare ) \nRules Enforcement Level: Regular  ( Anfänger Willkommen  \, wir spielen zum Spass ) \nAchtung limitierte Platzzahl !   \nTeilnehmer benötigen einen Wizards account :    \nhttps://myaccounts.wizards.com/login
URL:https://maro-games.ch/event/prerelease-turnier-spiderman-samstag-20-9-25-17-00/
CATEGORIES:Magic
ATTACH;FMTTYPE=image/png:https://maro-games.ch/wp-content/uploads/2025/08/Spider-2.png
END:VEVENT
BEGIN:VEVENT
DTSTART;TZID=Europe/Zurich:20250921T150000
DTEND;TZID=Europe/Zurich:20250921T210000
DTSTAMP:20260421T123901
CREATED:20250912T043018Z
LAST-MODIFIED:20250912T045905Z
UID:10000673-1758466800-1758488400@maro-games.ch
SUMMARY:Prerelease Turnier : Spiderman  (Sonntag 21.9.25 ; 15.00) \, jeder gewinnt;)
DESCRIPTION:Platzreservierung/Turniereinsatz mit 5.- Rabatt  über : https://www.maro-shop.ch/products/prerelease-turnier-magic-marvel-spider-man-sonntag-21-09-2025-16-00-jeder-gewinnt \nTüröffnung:  14.30 \nTurnierstart : 15.00 \nEinsatz CHF 50.-  vor Ort \,  über Shop bei Vorauszahlung 45.- \nSprache : Deutsch \nPreise:  Pro Rundensieg 1 Booster \, für  Spieler mit 0/1/2  Punkte gibt es am Schluss des Turniers ebenfalls ein Preisbooster : \nFormat:  Sealed     ( 1 Prerelease Pack pro Spieler  darin unter anderem enthalten  6 Booster  / W20 / Foil Rare ) \nRules Enforcement Level: Regular  ( Anfänger Willkommen  \, wir spielen zum Spass ) \nAchtung limitierte Platzzahl !   \nTeilnehmer benötigen einen Wizards account :    \nhttps://myaccounts.wizards.com/login
URL:https://maro-games.ch/event/prerelease-turnier-spiderman-sonntag-21-9-25-15-00-jeder-gewinnt/
CATEGORIES:Magic
ATTACH;FMTTYPE=image/png:https://maro-games.ch/wp-content/uploads/2025/08/Spider-2.png
END:VEVENT
BEGIN:VEVENT
DTSTART;TZID=Europe/Zurich:20250923T190000
DTEND;TZID=Europe/Zurich:20250923T233000
DTSTAMP:20260421T123901
CREATED:20250922T171615Z
LAST-MODIFIED:20250922T171615Z
UID:10000691-1758654000-1758670200@maro-games.ch
SUMMARY:Prerelease Turnier : Spiderman Spezial Preis  (Dienstag  23.9.25 ; 19.00)
DESCRIPTION:Türöffnung:  18.30 \nTurnierstart : 19.00 \nEinsatz CHF  .  35.- \nSprache : Deutsch\nPreise: 1  Deutsche Play- Booster pro Spieler im Preispool. (no store credits )\n \nFormat:  Sealed     ( 1 Prerelease Pack pro Spieler  darin unter anderem enthalten  6 Booster  / W20 / Foil Rare ) \nRules Enforcement Level: Regular  ( Anfänger Willkommen  \, wir spielen zum Spass ) \nAchtung limitierte Platzzahl !   \nTeilnehmer benötigen einen Wizards account :    \nhttps://myaccounts.wizards.com/login
URL:https://maro-games.ch/event/prerelease-turnier-spiderman-spezial-preis-dienstag-23-9-25-19-00/
CATEGORIES:Magic
ATTACH;FMTTYPE=image/png:https://maro-games.ch/wp-content/uploads/2025/08/Spider-2.png
END:VEVENT
BEGIN:VEVENT
DTSTART;TZID=Europe/Zurich:20250927T170000
DTEND;TZID=Europe/Zurich:20250927T220000
DTSTAMP:20260421T123901
CREATED:20250911T074608Z
LAST-MODIFIED:20250912T193708Z
UID:10000686-1758992400-1759010400@maro-games.ch
SUMMARY:Pokemon Prerelease  Mega Evolution  Samstag   27.9.25
DESCRIPTION:Anmeldung über folgenden Link : https://www.maro-shop.ch/products/pokemon-prerelease-mega-evolution-samstag-27-09-2025 \n Prerelease  Packs auf Deutsch oder Englisch erhältlich \nIhr erhaltet an diesem Tag ein Build and Battle Kit zu dem brandneuen Pokémon Set Mega Evolution In diesem Kit findet ihr: Entwicklungskit mit Promokarte (Dient zum Deckbau) Vier Booster Pokémon Mega Evolution Spielanleitung Zusätzlich erhält jeder Teilnehmer am Ende des Turniers drei weitere Booster von Mega Evolution Zusätzlich Pro Teilnehmer gibt es noch ein Eventpack auf Englisch am Ende des Turniers. Karten auf Deutsch oder Engisch ACHTUNG Limitierte Platzzahl – Anmeldung über unsere Homepage empfohlen . Für Teilnahme braucht es einen Pokemon Account welcher über folgenden Link erstellt werden kann: https://club.pokemon.com/de/pokemon-trainer-club/anmelden/
URL:https://maro-games.ch/event/pokemon-prerelease-mega-evolution-samstag-27-9-25/
LOCATION:MaRo Games\, Hauptstrasse 11\, Birsfelden\, Schweiz
CATEGORIES:Pokemon
ATTACH;FMTTYPE=image/jpeg:https://maro-games.ch/wp-content/uploads/2025/09/Mga-ev.jpg
END:VEVENT
BEGIN:VEVENT
DTSTART;TZID=Europe/Zurich:20250930T190000
DTEND;TZID=Europe/Zurich:20250930T233000
DTSTAMP:20260421T123901
CREATED:20250928T163028Z
LAST-MODIFIED:20250928T163303Z
UID:10000687-1759258800-1759275000@maro-games.ch
SUMMARY:Pokemon Prerelease  Mega Evolution  Dienstag  30.9.25
DESCRIPTION:Anmeldung über folgenden Link : https://www.maro-shop.ch/products/pokemon-prerelease-mega-evolution-dienstag-30-09-2025 \n Prerelease  Packs auf Deutsch oder Englisch erhältlich \nIhr erhaltet an diesem Tag ein Build and Battle Kit zu dem brandneuen Pokémon Set Mega Evolution In diesem Kit findet ihr: Entwicklungskit mit Promokarte (Dient zum Deckbau) Vier Booster Pokémon Mega Evolution Spielanleitung Zusätzlich erhält jeder Teilnehmer am Ende des Turniers drei weitere Booster von Mega Evolution Zusätzlich Pro Teilnehmer gibt es noch ein Eventpack auf Englisch am Ende des Turniers. Karten auf Deutsch oder Engisch ACHTUNG Limitierte Platzzahl – Anmeldung über unsere Homepage empfohlen . Für Teilnahme braucht es einen Pokemon Account welcher über folgenden Link erstellt werden kann: https://club.pokemon.com/de/pokemon-trainer-club/anmelden/
URL:https://maro-games.ch/event/pokemon-prerelease-mega-evolution-dienstag-30-9-25/
LOCATION:MaRo Games\, Hauptstrasse 11\, Birsfelden\, Schweiz
CATEGORIES:Pokemon
ATTACH;FMTTYPE=image/jpeg:https://maro-games.ch/wp-content/uploads/2025/09/Mga-ev.jpg
END:VEVENT
BEGIN:VEVENT
DTSTART;TZID=Europe/Zurich:20250930T190000
DTEND;TZID=Europe/Zurich:20250930T233000
DTSTAMP:20260421T123901
CREATED:20250929T045111Z
LAST-MODIFIED:20250929T045111Z
UID:10000697-1759258800-1759275000@maro-games.ch
SUMMARY:Spiderman Sealed mit Englischen Prerelease Packs   (Dienstag  30.9.25 ; 19.00)  Spezial Preis
DESCRIPTION:Türöffnung:  18.30 \nTurnierstart : 19.00 \nEinsatz CHF  .  35.- \nSprache : Englisch\nPreise: 1  Play- Booster pro Spieler im Preispool.  \nFormat:  Sealed     ( 1 Prerelease Pack pro Spieler  darin unter anderem enthalten  6 Booster  / W20 / Foil Rare ) \nRules Enforcement Level: Regular  ( Anfänger Willkommen  \, wir spielen zum Spass ) \nAchtung limitierte Platzzahl !   \nTeilnehmer benötigen einen Wizards account :    \nhttps://myaccounts.wizards.com/login
URL:https://maro-games.ch/event/spiderman-sealed-mit-englischen-prerelease-packs-dienstag-30-9-25-19-00-spezial-preis/
CATEGORIES:Magic
ATTACH;FMTTYPE=image/png:https://maro-games.ch/wp-content/uploads/2025/08/Spider-2.png
END:VEVENT
END:VCALENDAR