BEGIN:VCALENDAR
VERSION:2.0
PRODID:-//MaRo Games - ECPv6.15.20//NONSGML v1.0//EN
CALSCALE:GREGORIAN
METHOD:PUBLISH
X-ORIGINAL-URL:https://maro-games.ch
X-WR-CALDESC:Veranstaltungen für MaRo Games
REFRESH-INTERVAL;VALUE=DURATION:PT1H
X-Robots-Tag:noindex
X-PUBLISHED-TTL:PT1H
BEGIN:VTIMEZONE
TZID:Europe/Zurich
BEGIN:DAYLIGHT
TZOFFSETFROM:+0100
TZOFFSETTO:+0200
TZNAME:CEST
DTSTART:20240331T010000
END:DAYLIGHT
BEGIN:STANDARD
TZOFFSETFROM:+0200
TZOFFSETTO:+0100
TZNAME:CET
DTSTART:20241027T010000
END:STANDARD
BEGIN:DAYLIGHT
TZOFFSETFROM:+0100
TZOFFSETTO:+0200
TZNAME:CEST
DTSTART:20250330T010000
END:DAYLIGHT
BEGIN:STANDARD
TZOFFSETFROM:+0200
TZOFFSETTO:+0100
TZNAME:CET
DTSTART:20251026T010000
END:STANDARD
BEGIN:DAYLIGHT
TZOFFSETFROM:+0100
TZOFFSETTO:+0200
TZNAME:CEST
DTSTART:20260329T010000
END:DAYLIGHT
BEGIN:STANDARD
TZOFFSETFROM:+0200
TZOFFSETTO:+0100
TZNAME:CET
DTSTART:20261025T010000
END:STANDARD
END:VTIMEZONE
BEGIN:VEVENT
DTSTART;TZID=Europe/Zurich:20250603T190000
DTEND;TZID=Europe/Zurich:20250603T233000
DTSTAMP:20260423T103627
CREATED:20250528T093814Z
LAST-MODIFIED:20250528T132332Z
UID:10000327-1748977200-1748993400@maro-games.ch
SUMMARY:ONE PIECE CARD GAME  OP-011  Release Tournament  03.06.25
DESCRIPTION:OP-11  Pre-Release Tournament \nTüröffnung ab 18:30 Uhr \nTurnierstart 19:00 Uhr \nEintritt: 30.- Franken    ( inklusive 6 Booster plus Participation Card    + Op-11 Release Pack  \nAnmeldung :    https://www.bandai-tcg-plus.com/event/2887844 \nPreise + Promos etc :   https://en.onepiece-cardgame.com/events/2025/store_tournament_op11/ \n 
URL:https://maro-games.ch/event/one-piece-card-game-op-011-release-tournament-03-06-25/
CATEGORIES:One Piece
ATTACH;FMTTYPE=image/png:https://maro-games.ch/wp-content/uploads/2025/05/op11.png
END:VEVENT
BEGIN:VEVENT
DTSTART;TZID=Europe/Zurich:20250606T140000
DTEND;TZID=Europe/Zurich:20250606T180000
DTSTAMP:20260423T103627
CREATED:20250530T122628Z
LAST-MODIFIED:20250531T154233Z
UID:10000328-1749218400-1749232800@maro-games.ch
SUMMARY:Prerelease Turnier : Final Fantasy  (Freitag 6.6.25 ; 14.00) \, jeder gewinnt;)
DESCRIPTION:Platzreservierung/Turniereinsatz mit 5.- Rabatt  über : https://www.maro-shop.ch/products/prerelease-turnier-magic-final-fantasy-06-06-2025-14-00-start \nTüröffnung:  13.30 \nTurnierstart : 14.00 \nEinsatz CHF 50.-  vor Ort \,  über Shop bei Vorauszahlung 45.- \nSprache : Deutsch \nPreise:  Pro Rundensieg 1 Booster \, für  Spieler mit 0/1/2  Punkte gibt es am Schluss des Turniers ebenfalls ein Preisbooster : \nFormat:  Sealed     ( 1 Prerelease Pack pro Spieler  darin unter anderem enthalten  6 Booster  / W20 / Foil Rare ) \nRules Enforcement Level: Regular  ( Anfänger Willkommen  \, wir spielen zum Spass ) \nAchtung limitierte Platzzahl !   \nTeilnehmer benötigen einen Wizards account :    \nhttps://myaccounts.wizards.com/login
URL:https://maro-games.ch/event/prerelease-turnier-final-fantasy-freitag-6-6-25-14-00-jeder-gewinnt/
CATEGORIES:Magic
ATTACH;FMTTYPE=image/jpeg:https://maro-games.ch/wp-content/uploads/2025/05/FF1.jpg
END:VEVENT
BEGIN:VEVENT
DTSTART;TZID=Europe/Zurich:20250606T183000
DTEND;TZID=Europe/Zurich:20250607T010000
DTSTAMP:20260423T103627
CREATED:20250530T152254Z
LAST-MODIFIED:20250531T154210Z
UID:10000324-1749234600-1749258000@maro-games.ch
SUMMARY:Prerelease Turnier : Final Fantasy  (Freitag 6.6.25 ; 18.30)  ENGLISCH
DESCRIPTION:Platzreservierung/Turniereinsatz mit 5.- Rabatt  über : https://www.maro-shop.ch/products/prerelease-turnier-magic-final-fantasy-06-06-2025-18-30-start\n \nTüröffnung:  18.00 \nTurnierstart : 18.30 \nEinsatz CHF 50.- vor Ort über Shop bei Vorauszahlung 45.- \nSprache : ENGLISCH\n \nPreise: 2  Booster pro Spieler im Preispool. (no store credits )\n \nFormat:  Sealed     ( 1 Prerelease Pack pro Spieler  darin unter anderem enthalten  6 Booster  / W20 / Foil Rare ) \nRules Enforcement Level: Regular  ( Anfänger Willkommen  \, wir spielen zum Spass ) \nAchtung limitierte Platzzahl !   \nTeilnehmer benötigen einen Wizards account :    \nhttps://myaccounts.wizards.com/login
URL:https://maro-games.ch/event/prerelease-turnier-final-fantasy-freitag-6-6-25-18-30/
CATEGORIES:Magic
ATTACH;FMTTYPE=image/jpeg:https://maro-games.ch/wp-content/uploads/2025/05/FF1.jpg
END:VEVENT
BEGIN:VEVENT
DTSTART;TZID=Europe/Zurich:20250607T170000
DTEND;TZID=Europe/Zurich:20250607T220000
DTSTAMP:20260423T103627
CREATED:20250530T152105Z
LAST-MODIFIED:20250531T154155Z
UID:10000323-1749315600-1749333600@maro-games.ch
SUMMARY:Prerelease Turnier : Final Fantasy   (Samstag 7.6.25 ; 17.00)
DESCRIPTION:Platzreservierung/Turniereinsatz mit 5.- Rabatt  über : https://www.maro-shop.ch/products/prerelease-turnier-magic-final-fantasy-07-06-2025-17-00-start\n \nTüröffnung:  16.30 \nTurnierstart : 17.00 \nEinsatz CHF 50.- vor Ort –  über Shop bei Vorauszahlung 45.- \nSprache : Deutsch\nPreise: 2  Deutsche Play- Booster pro Spieler im Preispool. (no store credits )\n \nFormat:  Sealed     ( 1 Prerelease Pack pro Spieler  darin unter anderem enthalten  6 Booster  / W20 / Foil Rare ) \nRules Enforcement Level: Regular  ( Anfänger Willkommen  \, wir spielen zum Spass ) \nAchtung limitierte Platzzahl !   \nTeilnehmer benötigen einen Wizards account :    \nhttps://myaccounts.wizards.com/login
URL:https://maro-games.ch/event/prerelease-turnier-final-fantasy-samstag-7-6-25-17-00/
CATEGORIES:Magic
ATTACH;FMTTYPE=image/jpeg:https://maro-games.ch/wp-content/uploads/2025/05/FF1.jpg
END:VEVENT
BEGIN:VEVENT
DTSTART;TZID=Europe/Zurich:20250608T140000
DTEND;TZID=Europe/Zurich:20250608T210000
DTSTAMP:20260423T103627
CREATED:20250530T151830Z
LAST-MODIFIED:20250531T154140Z
UID:10000322-1749391200-1749416400@maro-games.ch
SUMMARY:Prerelease Turnier : Final Fantasy  (Sonntag 8.6.25 ; 14.00) \, jeder gewinnt;)
DESCRIPTION:Platzreservierung/Turniereinsatz mit 5.- Rabatt  über : https://www.maro-shop.ch/products/prerelease-turnier-magic-final-fantasy-08-06-2025-14-00-start \nTüröffnung:  13.30 \nTurnierstart : 14.00 \nEinsatz CHF 50.-  vor Ort \,  über Shop bei Vorauszahlung 45.- \nSprache : Deutsch \nPreise:  Pro Rundensieg 1 Booster \, für  Spieler mit 0/1/2  Punkte gibt es am Schluss des Turniers ebenfalls ein Preisbooster : \nFormat:  Sealed     ( 1 Prerelease Pack pro Spieler  darin unter anderem enthalten  6 Booster  / W20 / Foil Rare ) \nRules Enforcement Level: Regular  ( Anfänger Willkommen  \, wir spielen zum Spass ) \nAchtung limitierte Platzzahl !   \nTeilnehmer benötigen einen Wizards account :    \nhttps://myaccounts.wizards.com/login
URL:https://maro-games.ch/event/prerelease-turnier-final-fantasy-sonntag-8-6-25-14-00-jeder-gewinnt/
CATEGORIES:Magic
ATTACH;FMTTYPE=image/jpeg:https://maro-games.ch/wp-content/uploads/2025/05/FF1.jpg
END:VEVENT
BEGIN:VEVENT
DTSTART;TZID=Europe/Zurich:20250610T190000
DTEND;TZID=Europe/Zurich:20250611T010000
DTSTAMP:20260423T103627
CREATED:20250608T193457Z
LAST-MODIFIED:20250608T230404Z
UID:10000338-1749582000-1749603600@maro-games.ch
SUMMARY:Prerelease Turnier : Final Fantasy  (Dienstag 10.6.25 ; 19.00)  ENGLISCH
DESCRIPTION: Wir bekommen noch einmal wenige Prerelease Packs auf Englisch 😉  \nTüröffnung:  18.30 \nTurnierstart : 19.00 \nEinsatz CHF  45.- \nSprache : ENGLISCH\n \nPreise: 1  Deutscher Play Booster Final Fantasy  pro Spieler im Preispool. (no store credits )\n \nFormat:  Sealed     ( 1 Prerelease Pack pro Spieler  darin unter anderem enthalten  6 Booster  / W20 / Foil Rare ) \nRules Enforcement Level: Regular  ( Anfänger Willkommen  \, wir spielen zum Spass ) \nAchtung limitierte Platzzahl !  \nTickets hier im Shop! \nTeilnehmer benötigen einen Wizards account :    \nhttps://myaccounts.wizards.com/login
URL:https://maro-games.ch/event/prerelease-turnier-final-fantasy-dienstag-10-6-25-19-00-englisch/
CATEGORIES:Magic
ATTACH;FMTTYPE=image/jpeg:https://maro-games.ch/wp-content/uploads/2025/05/FF1.jpg
END:VEVENT
END:VCALENDAR