BEGIN:VCALENDAR
VERSION:2.0
PRODID:-//MaRo Games - ECPv6.15.20//NONSGML v1.0//EN
CALSCALE:GREGORIAN
METHOD:PUBLISH
X-ORIGINAL-URL:https://maro-games.ch
X-WR-CALDESC:Veranstaltungen für MaRo Games
REFRESH-INTERVAL;VALUE=DURATION:PT1H
X-Robots-Tag:noindex
X-PUBLISHED-TTL:PT1H
BEGIN:VTIMEZONE
TZID:Europe/Zurich
BEGIN:DAYLIGHT
TZOFFSETFROM:+0100
TZOFFSETTO:+0200
TZNAME:CEST
DTSTART:20230326T010000
END:DAYLIGHT
BEGIN:STANDARD
TZOFFSETFROM:+0200
TZOFFSETTO:+0100
TZNAME:CET
DTSTART:20231029T010000
END:STANDARD
BEGIN:DAYLIGHT
TZOFFSETFROM:+0100
TZOFFSETTO:+0200
TZNAME:CEST
DTSTART:20240331T010000
END:DAYLIGHT
BEGIN:STANDARD
TZOFFSETFROM:+0200
TZOFFSETTO:+0100
TZNAME:CET
DTSTART:20241027T010000
END:STANDARD
BEGIN:DAYLIGHT
TZOFFSETFROM:+0100
TZOFFSETTO:+0200
TZNAME:CEST
DTSTART:20250330T010000
END:DAYLIGHT
BEGIN:STANDARD
TZOFFSETFROM:+0200
TZOFFSETTO:+0100
TZNAME:CET
DTSTART:20251026T010000
END:STANDARD
END:VTIMEZONE
BEGIN:VEVENT
DTSTART;TZID=Europe/Zurich:20240901T160000
DTEND;TZID=Europe/Zurich:20240901T200000
DTSTAMP:20260423T201206
CREATED:20240826T064818Z
LAST-MODIFIED:20240826T064902Z
UID:10000064-1725206400-1725220800@maro-games.ch
SUMMARY:Pokemon Prerelease Stellar Crown ( Stellarkrone) 1.9.24
DESCRIPTION:Türöffnung: 15.30 \nTurnierstart : 16.00 \nEinsatz : 30.- SFR \nPrerelease Packs auf Deutsch \nIhr erhaltet an diesem Tag ein Build and Battle Kit zu dem brandneuen Pokémon Set Stellar Crown In diesem Kit findet ihr: Entwicklungskit mit Promokarte (Dient zum Deckbau) Vier Booster Pokémon Stellar Crown Spielanleitung Zusätzlich erhält jeder Teilnehmer am Ende des Turniers drei weitere Booster von Stellar Crown Zusätzlich Pro Teilnehmer gibt es noch ein Eventpack auf Englisch am Ende des Turniers. Karten auf Deutsch ACHTUNG Limitierte Platzzahl – Anmeldung über unsere Homepage empfohlen . Für Teilnahme braucht es einen Pokemon Account welcher über folgenden Link erstellt werden kann: https://club.pokemon.com/de/pokemon-trainer-club/anmelden/
URL:https://maro-games.ch/event/pokemon-prerelease-stellar-crown-stellarkrone/
LOCATION:MaRo Games\, Hauptstrasse 11\, Birsfelden\, Schweiz
CATEGORIES:Pokemon
ATTACH;FMTTYPE=image/webp:https://maro-games.ch/wp-content/uploads/2024/08/prerelease.webp
END:VEVENT
BEGIN:VEVENT
DTSTART;TZID=Europe/Zurich:20240917T190000
DTEND;TZID=Europe/Zurich:20240917T233000
DTSTAMP:20260423T201206
CREATED:20240909T142424Z
LAST-MODIFIED:20240909T142830Z
UID:10000085-1726599600-1726615800@maro-games.ch
SUMMARY:ONE PIECE CARD GAME OP-08 Pre-Release Tournament  Neu 17.9.24
DESCRIPTION:Da Bandai nicht rechtzeitig liefern kann – Neu am 17.9.24 \nOP-08 Pre-Release Tournament \nTüröffnung ab 18:30 Uhr\nTurnierstart 19:00 Uhr \nEintritt:  30.- Franken  ( inklusive 6 Booster plus Participation Card  + Op-08 Prerlease Pack ) \nWinner :    P-071 Marco (Silver Foil + Gold Stamp)\nAnmeldung : https://www.bandai-tcg-plus.com/event/1357597 \nBandai Info: https://en.onepiece-cardgame.com/events/2024/store_tournament_op08/ \n 
URL:https://maro-games.ch/event/one-piece-card-game-op-08-pre-release-tournament-2/
CATEGORIES:One Piece
ATTACH;FMTTYPE=image/png:https://maro-games.ch/wp-content/uploads/2024/08/One-piece-8.png
END:VEVENT
BEGIN:VEVENT
DTSTART;TZID=Europe/Zurich:20240920T140000
DTEND;TZID=Europe/Zurich:20240920T180000
DTSTAMP:20260423T201206
CREATED:20240914T154701Z
LAST-MODIFIED:20240914T191043Z
UID:10000089-1726840800-1726855200@maro-games.ch
SUMMARY:Prerelease Turnier : Duskmourn (Freitag 20.9.24 ; 14.00) \, jeder gewinnt;)
DESCRIPTION:Platzreservierung/Turniereinsatz mit 5.- Rabatt  über : https://www.maro-shop.ch/products/prerelease-turnier-magic-dusmourn-house-of-horror-20-09-2024-14-00-start \nTüröffnung:  13.30 \nTurnierstart : 14.00 \nEinsatz CHF 40.-  vor Ort  über Shop bei Vorauszahlung 35.- \nSprache : Englische Karten\n \nPreise:  Pro Rundensieg 1 Booster \, für  Spieler mit 0/1/2  Punkte gibt es am Schluss des Turniers ebenfalls ein Preisbooster : \nFormat:  Sealed  Fix  3 Runden   ( 1 Prerelease Pack pro Spieler  darin unter anderem enthalten  6 Booster  / W20 / Foil Rare ) \nRules Enforcement Level: Regular  ( Anfänger Willkommen  \, wir spielen zum Spass ) \nAchtung limitierte Platzzahl !   \nTeilnehmer benötigen einen Wizards account :    \nhttps://myaccounts.wizards.com/login
URL:https://maro-games.ch/event/prerelease-turnier-duskmourn-freitag-20-9-24-14-00-jeder-gewinnt/
CATEGORIES:Magic
ATTACH;FMTTYPE=image/webp:https://maro-games.ch/wp-content/uploads/2024/08/duskmourn.webp
END:VEVENT
BEGIN:VEVENT
DTSTART;TZID=Europe/Zurich:20240920T183000
DTEND;TZID=Europe/Zurich:20240920T235500
DTSTAMP:20260423T201206
CREATED:20240914T134415Z
LAST-MODIFIED:20240914T191020Z
UID:10000088-1726857000-1726876500@maro-games.ch
SUMMARY:Prerelease Turnier : Duskmourn (Freitag 20.9.24 ; 18.30)
DESCRIPTION:Platzreservierung/Turniereinsatz mit 5.- Rabatt  über :  https://www.maro-shop.ch/products/prerelease-turnier-magic-dusmourn-house-of-horror-20-09-2024-18-30-start \nTüröffnung:  18.00 \nTurnierstart : 18.30 \nEinsatz CHF 40.- vor Ort über Shop bei Vorauszahlung 35.- \nSprache : Englische Karten\n \nPreise: 2  Booster pro Spieler im Preispool. (no store credits )\n \nFormat:  Sealed     ( 1 Prerelease Pack pro Spieler  darin unter anderem enthalten  6 Booster  / W20 / Foil Rare ) \nRules Enforcement Level: Regular  ( Anfänger Willkommen  \, wir spielen zum Spass ) \nAchtung limitierte Platzzahl !   \nTeilnehmer benötigen einen Wizards account :    \nhttps://myaccounts.wizards.com/login
URL:https://maro-games.ch/event/prerelease-turnier-duskmourn-freitag-20-9-24-18-30/
CATEGORIES:Magic
ATTACH;FMTTYPE=image/webp:https://maro-games.ch/wp-content/uploads/2024/08/duskmourn.webp
END:VEVENT
BEGIN:VEVENT
DTSTART;TZID=Europe/Zurich:20240922T150000
DTEND;TZID=Europe/Zurich:20240922T210000
DTSTAMP:20260423T201206
CREATED:20240914T103313Z
LAST-MODIFIED:20240914T190915Z
UID:10000086-1727017200-1727038800@maro-games.ch
SUMMARY:Prerelease Turnier : Duskmourn  (Sonntag 22.9.24 ; 15.00) \, jeder gewinnt;)
DESCRIPTION:Platzreservierung/Turniereinsatz mit 5.- Rabatt  über : https://www.maro-shop.ch/products/prerelease-turnier-magic-duskmourn-house-of-horror-22-09-2024-15-00-start \nTüröffnung:  14.30 \nTurnierstart : 15.00 \nEinsatz CHF 40.-  vor Ort  über Shop bei Vorauszahlung 35.- \nSprache : Englische Karten\n \nPreise:  Pro Rundensieg 1 Booster \, für  Spieler mit 0/1/2  Punkte gibt es am Schluss des Turniers ebenfalls ein Preisbooster : \nFormat:  Sealed     ( 1 Prerelease Pack pro Spieler  darin unter anderem enthalten  6 Booster  / W20 / Foil Rare ) \nRules Enforcement Level: Regular  ( Anfänger Willkommen  \, wir spielen zum Spass ) \nAchtung limitierte Platzzahl !   \nTeilnehmer benötigen einen Wizards account :    \nhttps://myaccounts.wizards.com/login
URL:https://maro-games.ch/event/prerelease-turnier-duskmourn-sonntag-22-9-24-15-00-jeder-gewinnt/
CATEGORIES:Magic
ATTACH;FMTTYPE=image/webp:https://maro-games.ch/wp-content/uploads/2024/08/duskmourn.webp
END:VEVENT
END:VCALENDAR