BEGIN:VCALENDAR
VERSION:2.0
PRODID:-//MaRo Games - ECPv6.15.20//NONSGML v1.0//EN
CALSCALE:GREGORIAN
METHOD:PUBLISH
X-WR-CALNAME:MaRo Games
X-ORIGINAL-URL:https://maro-games.ch
X-WR-CALDESC:Veranstaltungen für MaRo Games
REFRESH-INTERVAL;VALUE=DURATION:PT1H
X-Robots-Tag:noindex
X-PUBLISHED-TTL:PT1H
BEGIN:VTIMEZONE
TZID:Europe/Zurich
BEGIN:DAYLIGHT
TZOFFSETFROM:+0100
TZOFFSETTO:+0200
TZNAME:CEST
DTSTART:20240331T010000
END:DAYLIGHT
BEGIN:STANDARD
TZOFFSETFROM:+0200
TZOFFSETTO:+0100
TZNAME:CET
DTSTART:20241027T010000
END:STANDARD
BEGIN:DAYLIGHT
TZOFFSETFROM:+0100
TZOFFSETTO:+0200
TZNAME:CEST
DTSTART:20250330T010000
END:DAYLIGHT
BEGIN:STANDARD
TZOFFSETFROM:+0200
TZOFFSETTO:+0100
TZNAME:CET
DTSTART:20251026T010000
END:STANDARD
BEGIN:DAYLIGHT
TZOFFSETFROM:+0100
TZOFFSETTO:+0200
TZNAME:CEST
DTSTART:20260329T010000
END:DAYLIGHT
BEGIN:STANDARD
TZOFFSETFROM:+0200
TZOFFSETTO:+0100
TZNAME:CET
DTSTART:20261025T010000
END:STANDARD
END:VTIMEZONE
BEGIN:VEVENT
DTSTART;TZID=Europe/Zurich:20251024T190000
DTEND;TZID=Europe/Zurich:20251024T230000
DTSTAMP:20260423T040559
CREATED:20251001T141356Z
LAST-MODIFIED:20251104T072649Z
UID:10000717-1761332400-1761346800@maro-games.ch
SUMMARY:GUNDAM CARD GAME GD02 Release Event - Fri. October 24\, 2025 07:00
DESCRIPTION:Einsatz: 30.-   ( Inklusive 6 Booster GD02  1 x  Participation Pack ) \nFormat  :  Sealed\nTüröffnung : 18.30  \nTurnierstart:  19.00  \n\nInfos :  https://www.gundam-gcg.com/asia-en/events/release_event_gd02.html \nAnmeldung ; https://www.bandai-tcg-plus.com/event/4075969 \n 
URL:https://maro-games.ch/event/gundam-card-game-gd02-release-event-fri-october-24-2025-0700/
CATEGORIES:Gundam
ATTACH;FMTTYPE=image/png:https://maro-games.ch/wp-content/uploads/2025/10/bandai-10-28-25-oceanside-gundam-dual-impact-gd02.png
END:VEVENT
END:VCALENDAR