BEGIN:VCALENDAR
VERSION:2.0
PRODID:-//MaRo Games - ECPv6.15.20//NONSGML v1.0//EN
CALSCALE:GREGORIAN
METHOD:PUBLISH
X-ORIGINAL-URL:https://maro-games.ch
X-WR-CALDESC:Veranstaltungen für MaRo Games
REFRESH-INTERVAL;VALUE=DURATION:PT1H
X-Robots-Tag:noindex
X-PUBLISHED-TTL:PT1H
BEGIN:VTIMEZONE
TZID:Europe/Zurich
BEGIN:DAYLIGHT
TZOFFSETFROM:+0100
TZOFFSETTO:+0200
TZNAME:CEST
DTSTART:20250330T010000
END:DAYLIGHT
BEGIN:STANDARD
TZOFFSETFROM:+0200
TZOFFSETTO:+0100
TZNAME:CET
DTSTART:20251026T010000
END:STANDARD
BEGIN:DAYLIGHT
TZOFFSETFROM:+0100
TZOFFSETTO:+0200
TZNAME:CEST
DTSTART:20260329T010000
END:DAYLIGHT
BEGIN:STANDARD
TZOFFSETFROM:+0200
TZOFFSETTO:+0100
TZNAME:CET
DTSTART:20261025T010000
END:STANDARD
BEGIN:DAYLIGHT
TZOFFSETFROM:+0100
TZOFFSETTO:+0200
TZNAME:CEST
DTSTART:20270328T010000
END:DAYLIGHT
BEGIN:STANDARD
TZOFFSETFROM:+0200
TZOFFSETTO:+0100
TZNAME:CET
DTSTART:20271031T010000
END:STANDARD
END:VTIMEZONE
BEGIN:VEVENT
DTSTART;TZID=Europe/Zurich:20260303T190000
DTEND;TZID=Europe/Zurich:20260303T230000
DTSTAMP:20260420T071503
CREATED:20251201T075117Z
LAST-MODIFIED:20260105T153850Z
UID:10000767-1772564400-1772578800@maro-games.ch
SUMMARY:Riftbound - Nexus Night
DESCRIPTION:Friday Nexus Night! lets battle! \nTurnierstart: 19:00 \nEinsatz: CHF 15.– \n1 Riftbound Booster pro Spieler \nPrices:   1 Riftbound Pack per Player im Pricepool \nPlus Nexus Night Packs for Top Players \nWICHTIG ANMELDUNG:  über die Rifbound Turnier Seite – jeweils für das aktuelle Turnier anmelden!
URL:https://maro-games.ch/event/riftbound-nexus-night-2/2026-03-03/
CATEGORIES:Riftbound
ATTACH;FMTTYPE=image/jpeg:https://maro-games.ch/wp-content/uploads/2025/11/riftbound.jpg
END:VEVENT
BEGIN:VEVENT
DTSTART;TZID=Europe/Zurich:20260306T190000
DTEND;TZID=Europe/Zurich:20260306T230000
DTSTAMP:20260420T071503
CREATED:20251201T075117Z
LAST-MODIFIED:20260105T153850Z
UID:10002157-1772823600-1772838000@maro-games.ch
SUMMARY:Riftbound - Nexus Night
DESCRIPTION:Friday Nexus Night! lets battle! \nTurnierstart: 19:00 \nEinsatz: CHF 15.– \n1 Riftbound Booster pro Spieler \nPrices:   1 Riftbound Pack per Player im Pricepool \nPlus Nexus Night Packs for Top Players \nWICHTIG ANMELDUNG:  über die Rifbound Turnier Seite – jeweils für das aktuelle Turnier anmelden!
URL:https://maro-games.ch/event/riftbound-nexus-night-2/2026-03-06/
CATEGORIES:Riftbound
ATTACH;FMTTYPE=image/jpeg:https://maro-games.ch/wp-content/uploads/2025/11/riftbound.jpg
END:VEVENT
BEGIN:VEVENT
DTSTART;TZID=Europe/Zurich:20260310T190000
DTEND;TZID=Europe/Zurich:20260310T230000
DTSTAMP:20260420T071503
CREATED:20251201T075117Z
LAST-MODIFIED:20260105T153850Z
UID:10000769-1773169200-1773183600@maro-games.ch
SUMMARY:Riftbound - Nexus Night
DESCRIPTION:Friday Nexus Night! lets battle! \nTurnierstart: 19:00 \nEinsatz: CHF 15.– \n1 Riftbound Booster pro Spieler \nPrices:   1 Riftbound Pack per Player im Pricepool \nPlus Nexus Night Packs for Top Players \nWICHTIG ANMELDUNG:  über die Rifbound Turnier Seite – jeweils für das aktuelle Turnier anmelden!
URL:https://maro-games.ch/event/riftbound-nexus-night-2/2026-03-10/
CATEGORIES:Riftbound
ATTACH;FMTTYPE=image/jpeg:https://maro-games.ch/wp-content/uploads/2025/11/riftbound.jpg
END:VEVENT
BEGIN:VEVENT
DTSTART;TZID=Europe/Zurich:20260313T190000
DTEND;TZID=Europe/Zurich:20260313T230000
DTSTAMP:20260420T071503
CREATED:20251201T075117Z
LAST-MODIFIED:20260105T153850Z
UID:10000770-1773428400-1773442800@maro-games.ch
SUMMARY:Riftbound - Nexus Night
DESCRIPTION:Friday Nexus Night! lets battle! \nTurnierstart: 19:00 \nEinsatz: CHF 15.– \n1 Riftbound Booster pro Spieler \nPrices:   1 Riftbound Pack per Player im Pricepool \nPlus Nexus Night Packs for Top Players \nWICHTIG ANMELDUNG:  über die Rifbound Turnier Seite – jeweils für das aktuelle Turnier anmelden!
URL:https://maro-games.ch/event/riftbound-nexus-night-2/2026-03-13/
CATEGORIES:Riftbound
ATTACH;FMTTYPE=image/jpeg:https://maro-games.ch/wp-content/uploads/2025/11/riftbound.jpg
END:VEVENT
BEGIN:VEVENT
DTSTART;TZID=Europe/Zurich:20260317T190000
DTEND;TZID=Europe/Zurich:20260317T230000
DTSTAMP:20260420T071503
CREATED:20251201T075117Z
LAST-MODIFIED:20260105T153850Z
UID:10000771-1773774000-1773788400@maro-games.ch
SUMMARY:Riftbound - Nexus Night
DESCRIPTION:Friday Nexus Night! lets battle! \nTurnierstart: 19:00 \nEinsatz: CHF 15.– \n1 Riftbound Booster pro Spieler \nPrices:   1 Riftbound Pack per Player im Pricepool \nPlus Nexus Night Packs for Top Players \nWICHTIG ANMELDUNG:  über die Rifbound Turnier Seite – jeweils für das aktuelle Turnier anmelden!
URL:https://maro-games.ch/event/riftbound-nexus-night-2/2026-03-17/
CATEGORIES:Riftbound
ATTACH;FMTTYPE=image/jpeg:https://maro-games.ch/wp-content/uploads/2025/11/riftbound.jpg
END:VEVENT
BEGIN:VEVENT
DTSTART;TZID=Europe/Zurich:20260320T190000
DTEND;TZID=Europe/Zurich:20260320T230000
DTSTAMP:20260420T071503
CREATED:20251201T075117Z
LAST-MODIFIED:20260105T153850Z
UID:10002158-1774033200-1774047600@maro-games.ch
SUMMARY:Riftbound - Nexus Night
DESCRIPTION:Friday Nexus Night! lets battle! \nTurnierstart: 19:00 \nEinsatz: CHF 15.– \n1 Riftbound Booster pro Spieler \nPrices:   1 Riftbound Pack per Player im Pricepool \nPlus Nexus Night Packs for Top Players \nWICHTIG ANMELDUNG:  über die Rifbound Turnier Seite – jeweils für das aktuelle Turnier anmelden!
URL:https://maro-games.ch/event/riftbound-nexus-night-2/2026-03-20/
CATEGORIES:Riftbound
ATTACH;FMTTYPE=image/jpeg:https://maro-games.ch/wp-content/uploads/2025/11/riftbound.jpg
END:VEVENT
BEGIN:VEVENT
DTSTART;TZID=Europe/Zurich:20260324T190000
DTEND;TZID=Europe/Zurich:20260324T230000
DTSTAMP:20260420T071503
CREATED:20251201T075117Z
LAST-MODIFIED:20260105T153850Z
UID:10000773-1774378800-1774393200@maro-games.ch
SUMMARY:Riftbound - Nexus Night
DESCRIPTION:Friday Nexus Night! lets battle! \nTurnierstart: 19:00 \nEinsatz: CHF 15.– \n1 Riftbound Booster pro Spieler \nPrices:   1 Riftbound Pack per Player im Pricepool \nPlus Nexus Night Packs for Top Players \nWICHTIG ANMELDUNG:  über die Rifbound Turnier Seite – jeweils für das aktuelle Turnier anmelden!
URL:https://maro-games.ch/event/riftbound-nexus-night-2/2026-03-24/
CATEGORIES:Riftbound
ATTACH;FMTTYPE=image/jpeg:https://maro-games.ch/wp-content/uploads/2025/11/riftbound.jpg
END:VEVENT
BEGIN:VEVENT
DTSTART;TZID=Europe/Zurich:20260327T190000
DTEND;TZID=Europe/Zurich:20260327T230000
DTSTAMP:20260420T071503
CREATED:20251201T075117Z
LAST-MODIFIED:20260105T153850Z
UID:10002159-1774638000-1774652400@maro-games.ch
SUMMARY:Riftbound - Nexus Night
DESCRIPTION:Friday Nexus Night! lets battle! \nTurnierstart: 19:00 \nEinsatz: CHF 15.– \n1 Riftbound Booster pro Spieler \nPrices:   1 Riftbound Pack per Player im Pricepool \nPlus Nexus Night Packs for Top Players \nWICHTIG ANMELDUNG:  über die Rifbound Turnier Seite – jeweils für das aktuelle Turnier anmelden!
URL:https://maro-games.ch/event/riftbound-nexus-night-2/2026-03-27/
CATEGORIES:Riftbound
ATTACH;FMTTYPE=image/jpeg:https://maro-games.ch/wp-content/uploads/2025/11/riftbound.jpg
END:VEVENT
BEGIN:VEVENT
DTSTART;TZID=Europe/Zurich:20260329T110000
DTEND;TZID=Europe/Zurich:20260329T200000
DTSTAMP:20260420T071503
CREATED:20260325T155650Z
LAST-MODIFIED:20260325T155650Z
UID:10002208-1774782000-1774814400@maro-games.ch
SUMMARY:Riftbound Turnier - Origins - Summoner Skirmish - Competitive (29.03.2026)
DESCRIPTION:  \nWann: Sonntag \,  29.03.202   \nTurnierstart: 11.00 \nTurnierformat: 1v1 Constructed\, Best of 3 Matches; Tournament Rules are available for reference \nEinsatz: CHF 25.– \n1 Booster per Player and 1 Booster into prize pool for top 8 and Participation Promo \nPrizes: Top Cut Promo (Top8)\, Champion Playmat and Additionally\,\nthe winner of the event will receive a Round 1 Bye at a Regional Qualifier. Please note: Players can accumulate multiple byes across Summoner Skirmish events\, but they are only able to utilize one bye per Regional Qualifier event. \nOrganized Play Level: Competitive \nEvent Structure: Swiss Rounds with Top Cut \nAnmeldung:  über die Rifbound Turnier Seite:  https://locator.riftbound.uvsgames.com/events/234587
URL:https://maro-games.ch/event/riftbound-turnier-origins-summoner-skirmish-competitive-29-03-2026/
CATEGORIES:Riftbound
ATTACH;FMTTYPE=image/webp:https://maro-games.ch/wp-content/uploads/2026/01/RiftboundSummonerSkirmishatGamerzParadize_ef014ccf-9e6c-438a-8865-4a889e9a85dc.webp
END:VEVENT
BEGIN:VEVENT
DTSTART;TZID=Europe/Zurich:20260329T110000
DTEND;TZID=Europe/Zurich:20260329T200000
DTSTAMP:20260420T071503
CREATED:20260409T050812Z
LAST-MODIFIED:20260409T050812Z
UID:10002229-1774782000-1774814400@maro-games.ch
SUMMARY:Riftbound Turnier - Origins - Summoner Skirmish - Competitive (19.04.2026)
DESCRIPTION:  \nWann: Sonntag \,  19.04.2026   \nTurnierstart: 11.00 \nTurnierformat: 1v1 Constructed\, Best of 3 Matches; Tournament Rules are available for reference \nEinsatz: CHF 25.– \n1 Booster per Player and 1 Booster into prize pool for top 8 and Participation Promo \nPrizes: Top Cut Promo (Top8)\, Champion Playmat and Additionally\,\nthe winner of the event will receive a Round 1 Bye at a Regional Qualifier. Please note: Players can accumulate multiple byes across Summoner Skirmish events\, but they are only able to utilize one bye per Regional Qualifier event. \nOrganized Play Level: Competitive \nEvent Structure: Swiss Rounds with Top Cut \nAnmeldung:  über die Rifbound Turnier Seite:  https://locator.riftbound.uvsgames.com/events/234589
URL:https://maro-games.ch/event/riftbound-turnier-origins-summoner-skirmish-competitive-19-04-2026/
CATEGORIES:Riftbound
ATTACH;FMTTYPE=image/webp:https://maro-games.ch/wp-content/uploads/2026/01/RiftboundSummonerSkirmishatGamerzParadize_ef014ccf-9e6c-438a-8865-4a889e9a85dc.webp
END:VEVENT
END:VCALENDAR