BEGIN:VCALENDAR
VERSION:2.0
PRODID:-//MaRo Games - ECPv6.15.20//NONSGML v1.0//EN
CALSCALE:GREGORIAN
METHOD:PUBLISH
X-ORIGINAL-URL:https://maro-games.ch
X-WR-CALDESC:Veranstaltungen für MaRo Games
REFRESH-INTERVAL;VALUE=DURATION:PT1H
X-Robots-Tag:noindex
X-PUBLISHED-TTL:PT1H
BEGIN:VTIMEZONE
TZID:Europe/Zurich
BEGIN:DAYLIGHT
TZOFFSETFROM:+0100
TZOFFSETTO:+0200
TZNAME:CEST
DTSTART:20250330T010000
END:DAYLIGHT
BEGIN:STANDARD
TZOFFSETFROM:+0200
TZOFFSETTO:+0100
TZNAME:CET
DTSTART:20251026T010000
END:STANDARD
BEGIN:DAYLIGHT
TZOFFSETFROM:+0100
TZOFFSETTO:+0200
TZNAME:CEST
DTSTART:20260329T010000
END:DAYLIGHT
BEGIN:STANDARD
TZOFFSETFROM:+0200
TZOFFSETTO:+0100
TZNAME:CET
DTSTART:20261025T010000
END:STANDARD
BEGIN:DAYLIGHT
TZOFFSETFROM:+0100
TZOFFSETTO:+0200
TZNAME:CEST
DTSTART:20270328T010000
END:DAYLIGHT
BEGIN:STANDARD
TZOFFSETFROM:+0200
TZOFFSETTO:+0100
TZNAME:CET
DTSTART:20271031T010000
END:STANDARD
END:VTIMEZONE
BEGIN:VEVENT
DTSTART;TZID=Europe/Zurich:20260203T190000
DTEND;TZID=Europe/Zurich:20260203T230000
DTSTAMP:20260420T091109
CREATED:20251201T075117Z
LAST-MODIFIED:20260105T153850Z
UID:10000759-1770145200-1770159600@maro-games.ch
SUMMARY:Riftbound - Nexus Night
DESCRIPTION:Friday Nexus Night! lets battle! \nTurnierstart: 19:00 \nEinsatz: CHF 15.– \n1 Riftbound Booster pro Spieler \nPrices:   1 Riftbound Pack per Player im Pricepool \nPlus Nexus Night Packs for Top Players \nWICHTIG ANMELDUNG:  über die Rifbound Turnier Seite – jeweils für das aktuelle Turnier anmelden!
URL:https://maro-games.ch/event/riftbound-nexus-night-2/2026-02-03/
CATEGORIES:Riftbound
ATTACH;FMTTYPE=image/jpeg:https://maro-games.ch/wp-content/uploads/2025/11/riftbound.jpg
END:VEVENT
BEGIN:VEVENT
DTSTART;TZID=Europe/Zurich:20260206T190000
DTEND;TZID=Europe/Zurich:20260206T230000
DTSTAMP:20260420T091109
CREATED:20251201T075117Z
LAST-MODIFIED:20260105T153850Z
UID:10000760-1770404400-1770418800@maro-games.ch
SUMMARY:Riftbound - Nexus Night
DESCRIPTION:Friday Nexus Night! lets battle! \nTurnierstart: 19:00 \nEinsatz: CHF 15.– \n1 Riftbound Booster pro Spieler \nPrices:   1 Riftbound Pack per Player im Pricepool \nPlus Nexus Night Packs for Top Players \nWICHTIG ANMELDUNG:  über die Rifbound Turnier Seite – jeweils für das aktuelle Turnier anmelden!
URL:https://maro-games.ch/event/riftbound-nexus-night-2/2026-02-06/
CATEGORIES:Riftbound
ATTACH;FMTTYPE=image/jpeg:https://maro-games.ch/wp-content/uploads/2025/11/riftbound.jpg
END:VEVENT
BEGIN:VEVENT
DTSTART;TZID=Europe/Zurich:20260213T190000
DTEND;TZID=Europe/Zurich:20260213T230000
DTSTAMP:20260420T091109
CREATED:20251201T075117Z
LAST-MODIFIED:20260105T153850Z
UID:10002155-1771009200-1771023600@maro-games.ch
SUMMARY:Riftbound - Nexus Night
DESCRIPTION:Friday Nexus Night! lets battle! \nTurnierstart: 19:00 \nEinsatz: CHF 15.– \n1 Riftbound Booster pro Spieler \nPrices:   1 Riftbound Pack per Player im Pricepool \nPlus Nexus Night Packs for Top Players \nWICHTIG ANMELDUNG:  über die Rifbound Turnier Seite – jeweils für das aktuelle Turnier anmelden!
URL:https://maro-games.ch/event/riftbound-nexus-night-2/2026-02-13/
CATEGORIES:Riftbound
ATTACH;FMTTYPE=image/jpeg:https://maro-games.ch/wp-content/uploads/2025/11/riftbound.jpg
END:VEVENT
BEGIN:VEVENT
DTSTART;TZID=Europe/Zurich:20260217T190000
DTEND;TZID=Europe/Zurich:20260217T230000
DTSTAMP:20260420T091109
CREATED:20251201T075117Z
LAST-MODIFIED:20260105T153850Z
UID:10000763-1771354800-1771369200@maro-games.ch
SUMMARY:Riftbound - Nexus Night
DESCRIPTION:Friday Nexus Night! lets battle! \nTurnierstart: 19:00 \nEinsatz: CHF 15.– \n1 Riftbound Booster pro Spieler \nPrices:   1 Riftbound Pack per Player im Pricepool \nPlus Nexus Night Packs for Top Players \nWICHTIG ANMELDUNG:  über die Rifbound Turnier Seite – jeweils für das aktuelle Turnier anmelden!
URL:https://maro-games.ch/event/riftbound-nexus-night-2/2026-02-17/
CATEGORIES:Riftbound
ATTACH;FMTTYPE=image/jpeg:https://maro-games.ch/wp-content/uploads/2025/11/riftbound.jpg
END:VEVENT
BEGIN:VEVENT
DTSTART;TZID=Europe/Zurich:20260220T190000
DTEND;TZID=Europe/Zurich:20260220T230000
DTSTAMP:20260420T091109
CREATED:20251201T075117Z
LAST-MODIFIED:20260105T153850Z
UID:10002156-1771614000-1771628400@maro-games.ch
SUMMARY:Riftbound - Nexus Night
DESCRIPTION:Friday Nexus Night! lets battle! \nTurnierstart: 19:00 \nEinsatz: CHF 15.– \n1 Riftbound Booster pro Spieler \nPrices:   1 Riftbound Pack per Player im Pricepool \nPlus Nexus Night Packs for Top Players \nWICHTIG ANMELDUNG:  über die Rifbound Turnier Seite – jeweils für das aktuelle Turnier anmelden!
URL:https://maro-games.ch/event/riftbound-nexus-night-2/2026-02-20/
CATEGORIES:Riftbound
ATTACH;FMTTYPE=image/jpeg:https://maro-games.ch/wp-content/uploads/2025/11/riftbound.jpg
END:VEVENT
BEGIN:VEVENT
DTSTART;TZID=Europe/Zurich:20260227T190000
DTEND;TZID=Europe/Zurich:20260227T230000
DTSTAMP:20260420T091109
CREATED:20251201T075117Z
LAST-MODIFIED:20260105T153850Z
UID:10000766-1772218800-1772233200@maro-games.ch
SUMMARY:Riftbound - Nexus Night
DESCRIPTION:Friday Nexus Night! lets battle! \nTurnierstart: 19:00 \nEinsatz: CHF 15.– \n1 Riftbound Booster pro Spieler \nPrices:   1 Riftbound Pack per Player im Pricepool \nPlus Nexus Night Packs for Top Players \nWICHTIG ANMELDUNG:  über die Rifbound Turnier Seite – jeweils für das aktuelle Turnier anmelden!
URL:https://maro-games.ch/event/riftbound-nexus-night-2/2026-02-27/
CATEGORIES:Riftbound
ATTACH;FMTTYPE=image/jpeg:https://maro-games.ch/wp-content/uploads/2025/11/riftbound.jpg
END:VEVENT
END:VCALENDAR