BEGIN:VCALENDAR
VERSION:2.0
PRODID:-//MaRo Games - ECPv6.15.20//NONSGML v1.0//EN
CALSCALE:GREGORIAN
METHOD:PUBLISH
X-WR-CALNAME:MaRo Games
X-ORIGINAL-URL:https://maro-games.ch
X-WR-CALDESC:Veranstaltungen für MaRo Games
REFRESH-INTERVAL;VALUE=DURATION:PT1H
X-Robots-Tag:noindex
X-PUBLISHED-TTL:PT1H
BEGIN:VTIMEZONE
TZID:Europe/Zurich
BEGIN:DAYLIGHT
TZOFFSETFROM:+0100
TZOFFSETTO:+0200
TZNAME:CEST
DTSTART:20240331T010000
END:DAYLIGHT
BEGIN:STANDARD
TZOFFSETFROM:+0200
TZOFFSETTO:+0100
TZNAME:CET
DTSTART:20241027T010000
END:STANDARD
BEGIN:DAYLIGHT
TZOFFSETFROM:+0100
TZOFFSETTO:+0200
TZNAME:CEST
DTSTART:20250330T010000
END:DAYLIGHT
BEGIN:STANDARD
TZOFFSETFROM:+0200
TZOFFSETTO:+0100
TZNAME:CET
DTSTART:20251026T010000
END:STANDARD
BEGIN:DAYLIGHT
TZOFFSETFROM:+0100
TZOFFSETTO:+0200
TZNAME:CEST
DTSTART:20260329T010000
END:DAYLIGHT
BEGIN:STANDARD
TZOFFSETFROM:+0200
TZOFFSETTO:+0100
TZNAME:CET
DTSTART:20261025T010000
END:STANDARD
END:VTIMEZONE
BEGIN:VEVENT
DTSTART;TZID=Europe/Zurich:20251202T190000
DTEND;TZID=Europe/Zurich:20251202T230000
DTSTAMP:20260420T153147
CREATED:20251201T075117Z
LAST-MODIFIED:20260105T153850Z
UID:10000742-1764702000-1764716400@maro-games.ch
SUMMARY:Riftbound - Nexus Night
DESCRIPTION:Friday Nexus Night! lets battle! \nTurnierstart: 19:00 \nEinsatz: CHF 15.– \n1 Riftbound Booster pro Spieler \nPrices:   1 Riftbound Pack per Player im Pricepool \nPlus Nexus Night Packs for Top Players \nWICHTIG ANMELDUNG:  über die Rifbound Turnier Seite – jeweils für das aktuelle Turnier anmelden!
URL:https://maro-games.ch/event/riftbound-nexus-night-2/2025-12-02/
CATEGORIES:Riftbound
ATTACH;FMTTYPE=image/jpeg:https://maro-games.ch/wp-content/uploads/2025/11/riftbound.jpg
END:VEVENT
BEGIN:VEVENT
DTSTART;TZID=Europe/Zurich:20251205T190000
DTEND;TZID=Europe/Zurich:20251205T230000
DTSTAMP:20260420T153147
CREATED:20251201T075117Z
LAST-MODIFIED:20260105T153850Z
UID:10000741-1764961200-1764975600@maro-games.ch
SUMMARY:Riftbound - Nexus Night
DESCRIPTION:Friday Nexus Night! lets battle! \nTurnierstart: 19:00 \nEinsatz: CHF 15.– \n1 Riftbound Booster pro Spieler \nPrices:   1 Riftbound Pack per Player im Pricepool \nPlus Nexus Night Packs for Top Players \nWICHTIG ANMELDUNG:  über die Rifbound Turnier Seite – jeweils für das aktuelle Turnier anmelden!
URL:https://maro-games.ch/event/riftbound-nexus-night-2/2025-12-05/
CATEGORIES:Riftbound
ATTACH;FMTTYPE=image/jpeg:https://maro-games.ch/wp-content/uploads/2025/11/riftbound.jpg
END:VEVENT
BEGIN:VEVENT
DTSTART;TZID=Europe/Zurich:20251209T190000
DTEND;TZID=Europe/Zurich:20251209T230000
DTSTAMP:20260420T153147
CREATED:20251201T075117Z
LAST-MODIFIED:20260105T153850Z
UID:10000743-1765306800-1765321200@maro-games.ch
SUMMARY:Riftbound - Nexus Night
DESCRIPTION:Friday Nexus Night! lets battle! \nTurnierstart: 19:00 \nEinsatz: CHF 15.– \n1 Riftbound Booster pro Spieler \nPrices:   1 Riftbound Pack per Player im Pricepool \nPlus Nexus Night Packs for Top Players \nWICHTIG ANMELDUNG:  über die Rifbound Turnier Seite – jeweils für das aktuelle Turnier anmelden!
URL:https://maro-games.ch/event/riftbound-nexus-night-2/2025-12-09/
CATEGORIES:Riftbound
ATTACH;FMTTYPE=image/jpeg:https://maro-games.ch/wp-content/uploads/2025/11/riftbound.jpg
END:VEVENT
BEGIN:VEVENT
DTSTART;TZID=Europe/Zurich:20251212T190000
DTEND;TZID=Europe/Zurich:20251212T230000
DTSTAMP:20260420T153147
CREATED:20251201T075117Z
LAST-MODIFIED:20260105T153850Z
UID:10000744-1765566000-1765580400@maro-games.ch
SUMMARY:Riftbound - Nexus Night
DESCRIPTION:Friday Nexus Night! lets battle! \nTurnierstart: 19:00 \nEinsatz: CHF 15.– \n1 Riftbound Booster pro Spieler \nPrices:   1 Riftbound Pack per Player im Pricepool \nPlus Nexus Night Packs for Top Players \nWICHTIG ANMELDUNG:  über die Rifbound Turnier Seite – jeweils für das aktuelle Turnier anmelden!
URL:https://maro-games.ch/event/riftbound-nexus-night-2/2025-12-12/
CATEGORIES:Riftbound
ATTACH;FMTTYPE=image/jpeg:https://maro-games.ch/wp-content/uploads/2025/11/riftbound.jpg
END:VEVENT
BEGIN:VEVENT
DTSTART;TZID=Europe/Zurich:20251216T190000
DTEND;TZID=Europe/Zurich:20251216T230000
DTSTAMP:20260420T153147
CREATED:20251201T075117Z
LAST-MODIFIED:20260105T153850Z
UID:10000745-1765911600-1765926000@maro-games.ch
SUMMARY:Riftbound - Nexus Night
DESCRIPTION:Friday Nexus Night! lets battle! \nTurnierstart: 19:00 \nEinsatz: CHF 15.– \n1 Riftbound Booster pro Spieler \nPrices:   1 Riftbound Pack per Player im Pricepool \nPlus Nexus Night Packs for Top Players \nWICHTIG ANMELDUNG:  über die Rifbound Turnier Seite – jeweils für das aktuelle Turnier anmelden!
URL:https://maro-games.ch/event/riftbound-nexus-night-2/2025-12-16/
CATEGORIES:Riftbound
ATTACH;FMTTYPE=image/jpeg:https://maro-games.ch/wp-content/uploads/2025/11/riftbound.jpg
END:VEVENT
BEGIN:VEVENT
DTSTART;TZID=Europe/Zurich:20251219T190000
DTEND;TZID=Europe/Zurich:20251219T230000
DTSTAMP:20260420T153147
CREATED:20251201T075117Z
LAST-MODIFIED:20260105T153850Z
UID:10000746-1766170800-1766185200@maro-games.ch
SUMMARY:Riftbound - Nexus Night
DESCRIPTION:Friday Nexus Night! lets battle! \nTurnierstart: 19:00 \nEinsatz: CHF 15.– \n1 Riftbound Booster pro Spieler \nPrices:   1 Riftbound Pack per Player im Pricepool \nPlus Nexus Night Packs for Top Players \nWICHTIG ANMELDUNG:  über die Rifbound Turnier Seite – jeweils für das aktuelle Turnier anmelden!
URL:https://maro-games.ch/event/riftbound-nexus-night-2/2025-12-19/
CATEGORIES:Riftbound
ATTACH;FMTTYPE=image/jpeg:https://maro-games.ch/wp-content/uploads/2025/11/riftbound.jpg
END:VEVENT
BEGIN:VEVENT
DTSTART;TZID=Europe/Zurich:20251223T190000
DTEND;TZID=Europe/Zurich:20251223T230000
DTSTAMP:20260420T153147
CREATED:20251201T075117Z
LAST-MODIFIED:20260105T153850Z
UID:10000747-1766516400-1766530800@maro-games.ch
SUMMARY:Riftbound - Nexus Night
DESCRIPTION:Friday Nexus Night! lets battle! \nTurnierstart: 19:00 \nEinsatz: CHF 15.– \n1 Riftbound Booster pro Spieler \nPrices:   1 Riftbound Pack per Player im Pricepool \nPlus Nexus Night Packs for Top Players \nWICHTIG ANMELDUNG:  über die Rifbound Turnier Seite – jeweils für das aktuelle Turnier anmelden!
URL:https://maro-games.ch/event/riftbound-nexus-night-2/2025-12-23/
CATEGORIES:Riftbound
ATTACH;FMTTYPE=image/jpeg:https://maro-games.ch/wp-content/uploads/2025/11/riftbound.jpg
END:VEVENT
BEGIN:VEVENT
DTSTART;TZID=Europe/Zurich:20251228T110000
DTEND;TZID=Europe/Zurich:20251228T230000
DTSTAMP:20260420T153147
CREATED:20251208T211902Z
LAST-MODIFIED:20251209T074325Z
UID:10001270-1766919600-1766962800@maro-games.ch
SUMMARY:Origins - Summoner Skirmish - Competitive!
DESCRIPTION:Origins – Summoner Skirmish – Competitive! \nTurnierstart: 11:00 \nEinsatz: CHF 15.– \n1 Booster per Player \nand 1 Booster into prize pool for top 8 \nplus: \nPrizes: Participation Promo\, Top 8 Promo\, Champion Playmat\, Round 1 bye at Regional Qualifiers \nPlus Nexus Night Packs for Top Players \nOrganized Play Level: Competitive \n  \nTicket here: https://www.maro-shop.ch/products/riftbound-turnier-origins-summoner-skirmish-competitive-28-12-2025 \nAnmeldung:  über die Rifbound Turnier Seite:  https://locator.riftbound.uvsgames.com/events/224453
URL:https://maro-games.ch/event/origins-summoner-skirmish-competitive/
LOCATION:MaRo Games\, Hauptstrasse 11\, Birsfelden\, Schweiz
CATEGORIES:Riftbound
ATTACH;FMTTYPE=image/webp:https://maro-games.ch/wp-content/uploads/2025/12/Riftbound_Summoner_Skirmish.webp
ORGANIZER;CN="MaRo Games":MAILTO:info@maro-games.ch
END:VEVENT
BEGIN:VEVENT
DTSTART;TZID=Europe/Zurich:20251230T190000
DTEND;TZID=Europe/Zurich:20251230T230000
DTSTAMP:20260420T153147
CREATED:20251201T075117Z
LAST-MODIFIED:20260105T153850Z
UID:10000749-1767121200-1767135600@maro-games.ch
SUMMARY:Riftbound - Nexus Night
DESCRIPTION:Friday Nexus Night! lets battle! \nTurnierstart: 19:00 \nEinsatz: CHF 15.– \n1 Riftbound Booster pro Spieler \nPrices:   1 Riftbound Pack per Player im Pricepool \nPlus Nexus Night Packs for Top Players \nWICHTIG ANMELDUNG:  über die Rifbound Turnier Seite – jeweils für das aktuelle Turnier anmelden!
URL:https://maro-games.ch/event/riftbound-nexus-night-2/2025-12-30/
CATEGORIES:Riftbound
ATTACH;FMTTYPE=image/jpeg:https://maro-games.ch/wp-content/uploads/2025/11/riftbound.jpg
END:VEVENT
END:VCALENDAR