BEGIN:VCALENDAR
VERSION:2.0
PRODID:-//MaRo Games - ECPv6.15.20//NONSGML v1.0//EN
CALSCALE:GREGORIAN
METHOD:PUBLISH
X-ORIGINAL-URL:https://maro-games.ch
X-WR-CALDESC:Veranstaltungen für MaRo Games
REFRESH-INTERVAL;VALUE=DURATION:PT1H
X-Robots-Tag:noindex
X-PUBLISHED-TTL:PT1H
BEGIN:VTIMEZONE
TZID:Europe/Zurich
BEGIN:DAYLIGHT
TZOFFSETFROM:+0100
TZOFFSETTO:+0200
TZNAME:CEST
DTSTART:20240331T010000
END:DAYLIGHT
BEGIN:STANDARD
TZOFFSETFROM:+0200
TZOFFSETTO:+0100
TZNAME:CET
DTSTART:20241027T010000
END:STANDARD
BEGIN:DAYLIGHT
TZOFFSETFROM:+0100
TZOFFSETTO:+0200
TZNAME:CEST
DTSTART:20250330T010000
END:DAYLIGHT
BEGIN:STANDARD
TZOFFSETFROM:+0200
TZOFFSETTO:+0100
TZNAME:CET
DTSTART:20251026T010000
END:STANDARD
BEGIN:DAYLIGHT
TZOFFSETFROM:+0100
TZOFFSETTO:+0200
TZNAME:CEST
DTSTART:20260329T010000
END:DAYLIGHT
BEGIN:STANDARD
TZOFFSETFROM:+0200
TZOFFSETTO:+0100
TZNAME:CET
DTSTART:20261025T010000
END:STANDARD
END:VTIMEZONE
BEGIN:VEVENT
DTSTART;TZID=Europe/Zurich:20250223T100000
DTEND;TZID=Europe/Zurich:20250223T210000
DTSTAMP:20260423T103321
CREATED:20250212T073918Z
LAST-MODIFIED:20250223T055316Z
UID:10000218-1740304800-1740344400@maro-games.ch
SUMMARY:European Magic Series RCQ 2 Round 9 Format : Sealed Top 8 – for Bologna 25-27.4.25
DESCRIPTION:Attention : Tournament places limited to 32 players Tickets reservation via the store. \ntournament is taking place . \n\n\n\n\nAttention limited places tickets over : https://www.maro-shop.ch/products/european-magic-series-rcq-2-round-9-format-sealed-top-8-for-bologna-25-27-4-25\n\nThe format will be sealed deck  Aetherdrift   (with English Prerelease Packs  )   and top 8\n\nDoor opens : 9.30\nStart : 10.00Format : Sealed Deck (swiss with top 8 )Entry Fee : 50 CHF   included  English Prerelease Pack Aetherdrift\nPrizes : 2 Play Booster Aetherdrift per player in the pricepool\n\n\nThe winner qualified for  Regiona Champs in Bologna\nhttps://www.fanfinity.gg/event/ug-european-magic-series-regional-championship-bologna/\n \n1.                 Winner Promo card – foil Force of Despair\n1-16.            Finisher Promo cards – non-foil Force of Despair\n1- 32.          Participation Promo cards – non-foil Mayhem Devil\n\n\nFormat:\nSealed  – Top 8 – (no Top 8 Draft) – Decklists mandatory\nREL: Competitiv – Judges on site \nAchtung!:\nTeilnahme nur mit einem Wizards Account!\nhttps://myaccounts.wizards.com/login
URL:https://maro-games.ch/event/european-magic-series-rcq-2-round-9-format-sealed-top-8-for-bologna-25-27-4-25/
CATEGORIES:Magic
ATTACH;FMTTYPE=image/jpeg:https://maro-games.ch/wp-content/uploads/2024/09/rcq.jpg
END:VEVENT
END:VCALENDAR