BEGIN:VCALENDAR
VERSION:2.0
PRODID:-//MaRo Games - ECPv6.15.20//NONSGML v1.0//EN
CALSCALE:GREGORIAN
METHOD:PUBLISH
X-ORIGINAL-URL:https://maro-games.ch
X-WR-CALDESC:Veranstaltungen für MaRo Games
REFRESH-INTERVAL;VALUE=DURATION:PT1H
X-Robots-Tag:noindex
X-PUBLISHED-TTL:PT1H
BEGIN:VTIMEZONE
TZID:Europe/Zurich
BEGIN:DAYLIGHT
TZOFFSETFROM:+0100
TZOFFSETTO:+0200
TZNAME:CEST
DTSTART:20290325T010000
END:DAYLIGHT
BEGIN:STANDARD
TZOFFSETFROM:+0200
TZOFFSETTO:+0100
TZNAME:CET
DTSTART:20291028T010000
END:STANDARD
BEGIN:DAYLIGHT
TZOFFSETFROM:+0100
TZOFFSETTO:+0200
TZNAME:CEST
DTSTART:20300331T010000
END:DAYLIGHT
BEGIN:STANDARD
TZOFFSETFROM:+0200
TZOFFSETTO:+0100
TZNAME:CET
DTSTART:20301027T010000
END:STANDARD
BEGIN:DAYLIGHT
TZOFFSETFROM:+0100
TZOFFSETTO:+0200
TZNAME:CEST
DTSTART:20310330T010000
END:DAYLIGHT
BEGIN:STANDARD
TZOFFSETFROM:+0200
TZOFFSETTO:+0100
TZNAME:CET
DTSTART:20311026T010000
END:STANDARD
END:VTIMEZONE
BEGIN:VEVENT
DTSTART;TZID=Europe/Zurich:20300802T190000
DTEND;TZID=Europe/Zurich:20300802T230000
DTSTAMP:20260425T202046
CREATED:20250619T204506Z
LAST-MODIFIED:20250619T204506Z
UID:10001811-1911927600-1911942000@maro-games.ch
SUMMARY:FNM Commander Night
DESCRIPTION:Welcome zu unserer Commander Night! \nAb 19:00 wird EDH Commander gespielt – die Pods werden on the fly zufällig oder nach Deckstärke anhand der Vorlieben der Anwesenden Spielern gemacht und nach beendeten Spielen wenn gewünscht neu gemischt. \nEinsatz: CHF 16.–  – Inklusive sind: ein Getränk nach Wahl und ein Play Booster der aktuellsten normalen Edition (Wert CHF 5.00) \nZu den Pods gibt es zufällige Promokarten die noch an Lager sind – wer die gewinnt könnt ihr bestimmen 🙂 \nRules und Banlist findet ihr wenn ihr draufklickt 🙂 \nAnmeldung nicht benötigt\, walk in! 🙂
URL:https://maro-games.ch/event/fnm-commander-night-46/2030-08-02/
LOCATION:MaRo Games\, Hauptstrasse 11\, Birsfelden\, Schweiz
CATEGORIES:Magic
ATTACH;FMTTYPE=image/jpeg:https://maro-games.ch/wp-content/uploads/2024/06/commander.jpg
ORGANIZER;CN="MaRo Games":MAILTO:info@maro-games.ch
END:VEVENT
BEGIN:VEVENT
DTSTART;TZID=Europe/Zurich:20300809T190000
DTEND;TZID=Europe/Zurich:20300809T230000
DTSTAMP:20260425T202046
CREATED:20250619T204506Z
LAST-MODIFIED:20250619T204506Z
UID:10001812-1912532400-1912546800@maro-games.ch
SUMMARY:FNM Commander Night
DESCRIPTION:Welcome zu unserer Commander Night! \nAb 19:00 wird EDH Commander gespielt – die Pods werden on the fly zufällig oder nach Deckstärke anhand der Vorlieben der Anwesenden Spielern gemacht und nach beendeten Spielen wenn gewünscht neu gemischt. \nEinsatz: CHF 16.–  – Inklusive sind: ein Getränk nach Wahl und ein Play Booster der aktuellsten normalen Edition (Wert CHF 5.00) \nZu den Pods gibt es zufällige Promokarten die noch an Lager sind – wer die gewinnt könnt ihr bestimmen 🙂 \nRules und Banlist findet ihr wenn ihr draufklickt 🙂 \nAnmeldung nicht benötigt\, walk in! 🙂
URL:https://maro-games.ch/event/fnm-commander-night-46/2030-08-09/
LOCATION:MaRo Games\, Hauptstrasse 11\, Birsfelden\, Schweiz
CATEGORIES:Magic
ATTACH;FMTTYPE=image/jpeg:https://maro-games.ch/wp-content/uploads/2024/06/commander.jpg
ORGANIZER;CN="MaRo Games":MAILTO:info@maro-games.ch
END:VEVENT
BEGIN:VEVENT
DTSTART;TZID=Europe/Zurich:20300816T190000
DTEND;TZID=Europe/Zurich:20300816T230000
DTSTAMP:20260425T202046
CREATED:20250619T204506Z
LAST-MODIFIED:20250619T204506Z
UID:10001813-1913137200-1913151600@maro-games.ch
SUMMARY:FNM Commander Night
DESCRIPTION:Welcome zu unserer Commander Night! \nAb 19:00 wird EDH Commander gespielt – die Pods werden on the fly zufällig oder nach Deckstärke anhand der Vorlieben der Anwesenden Spielern gemacht und nach beendeten Spielen wenn gewünscht neu gemischt. \nEinsatz: CHF 16.–  – Inklusive sind: ein Getränk nach Wahl und ein Play Booster der aktuellsten normalen Edition (Wert CHF 5.00) \nZu den Pods gibt es zufällige Promokarten die noch an Lager sind – wer die gewinnt könnt ihr bestimmen 🙂 \nRules und Banlist findet ihr wenn ihr draufklickt 🙂 \nAnmeldung nicht benötigt\, walk in! 🙂
URL:https://maro-games.ch/event/fnm-commander-night-46/2030-08-16/
LOCATION:MaRo Games\, Hauptstrasse 11\, Birsfelden\, Schweiz
CATEGORIES:Magic
ATTACH;FMTTYPE=image/jpeg:https://maro-games.ch/wp-content/uploads/2024/06/commander.jpg
ORGANIZER;CN="MaRo Games":MAILTO:info@maro-games.ch
END:VEVENT
BEGIN:VEVENT
DTSTART;TZID=Europe/Zurich:20300823T190000
DTEND;TZID=Europe/Zurich:20300823T230000
DTSTAMP:20260425T202046
CREATED:20250619T204506Z
LAST-MODIFIED:20250619T204506Z
UID:10001814-1913742000-1913756400@maro-games.ch
SUMMARY:FNM Commander Night
DESCRIPTION:Welcome zu unserer Commander Night! \nAb 19:00 wird EDH Commander gespielt – die Pods werden on the fly zufällig oder nach Deckstärke anhand der Vorlieben der Anwesenden Spielern gemacht und nach beendeten Spielen wenn gewünscht neu gemischt. \nEinsatz: CHF 16.–  – Inklusive sind: ein Getränk nach Wahl und ein Play Booster der aktuellsten normalen Edition (Wert CHF 5.00) \nZu den Pods gibt es zufällige Promokarten die noch an Lager sind – wer die gewinnt könnt ihr bestimmen 🙂 \nRules und Banlist findet ihr wenn ihr draufklickt 🙂 \nAnmeldung nicht benötigt\, walk in! 🙂
URL:https://maro-games.ch/event/fnm-commander-night-46/2030-08-23/
LOCATION:MaRo Games\, Hauptstrasse 11\, Birsfelden\, Schweiz
CATEGORIES:Magic
ATTACH;FMTTYPE=image/jpeg:https://maro-games.ch/wp-content/uploads/2024/06/commander.jpg
ORGANIZER;CN="MaRo Games":MAILTO:info@maro-games.ch
END:VEVENT
BEGIN:VEVENT
DTSTART;TZID=Europe/Zurich:20300830T190000
DTEND;TZID=Europe/Zurich:20300830T230000
DTSTAMP:20260425T202046
CREATED:20250619T204506Z
LAST-MODIFIED:20250619T204506Z
UID:10001815-1914346800-1914361200@maro-games.ch
SUMMARY:FNM Commander Night
DESCRIPTION:Welcome zu unserer Commander Night! \nAb 19:00 wird EDH Commander gespielt – die Pods werden on the fly zufällig oder nach Deckstärke anhand der Vorlieben der Anwesenden Spielern gemacht und nach beendeten Spielen wenn gewünscht neu gemischt. \nEinsatz: CHF 16.–  – Inklusive sind: ein Getränk nach Wahl und ein Play Booster der aktuellsten normalen Edition (Wert CHF 5.00) \nZu den Pods gibt es zufällige Promokarten die noch an Lager sind – wer die gewinnt könnt ihr bestimmen 🙂 \nRules und Banlist findet ihr wenn ihr draufklickt 🙂 \nAnmeldung nicht benötigt\, walk in! 🙂
URL:https://maro-games.ch/event/fnm-commander-night-46/2030-08-30/
LOCATION:MaRo Games\, Hauptstrasse 11\, Birsfelden\, Schweiz
CATEGORIES:Magic
ATTACH;FMTTYPE=image/jpeg:https://maro-games.ch/wp-content/uploads/2024/06/commander.jpg
ORGANIZER;CN="MaRo Games":MAILTO:info@maro-games.ch
END:VEVENT
END:VCALENDAR