BEGIN:VCALENDAR
VERSION:2.0
PRODID:-//MaRo Games - ECPv6.15.20//NONSGML v1.0//EN
CALSCALE:GREGORIAN
METHOD:PUBLISH
X-WR-CALNAME:MaRo Games
X-ORIGINAL-URL:https://maro-games.ch
X-WR-CALDESC:Veranstaltungen für MaRo Games
REFRESH-INTERVAL;VALUE=DURATION:PT1H
X-Robots-Tag:noindex
X-PUBLISHED-TTL:PT1H
BEGIN:VTIMEZONE
TZID:Europe/Zurich
BEGIN:DAYLIGHT
TZOFFSETFROM:+0100
TZOFFSETTO:+0200
TZNAME:CEST
DTSTART:20280326T010000
END:DAYLIGHT
BEGIN:STANDARD
TZOFFSETFROM:+0200
TZOFFSETTO:+0100
TZNAME:CET
DTSTART:20281029T010000
END:STANDARD
BEGIN:DAYLIGHT
TZOFFSETFROM:+0100
TZOFFSETTO:+0200
TZNAME:CEST
DTSTART:20290325T010000
END:DAYLIGHT
BEGIN:STANDARD
TZOFFSETFROM:+0200
TZOFFSETTO:+0100
TZNAME:CET
DTSTART:20291028T010000
END:STANDARD
BEGIN:DAYLIGHT
TZOFFSETFROM:+0100
TZOFFSETTO:+0200
TZNAME:CEST
DTSTART:20300331T010000
END:DAYLIGHT
BEGIN:STANDARD
TZOFFSETFROM:+0200
TZOFFSETTO:+0100
TZNAME:CET
DTSTART:20301027T010000
END:STANDARD
END:VTIMEZONE
BEGIN:VEVENT
DTSTART;TZID=Europe/Zurich:20291102T190000
DTEND;TZID=Europe/Zurich:20291102T230000
DTSTAMP:20260425T055219
CREATED:20250619T204506Z
LAST-MODIFIED:20250619T204506Z
UID:10000575-1888340400-1888354800@maro-games.ch
SUMMARY:FNM Commander Night
DESCRIPTION:Welcome zu unserer Commander Night! \nAb 19:00 wird EDH Commander gespielt – die Pods werden on the fly zufällig oder nach Deckstärke anhand der Vorlieben der Anwesenden Spielern gemacht und nach beendeten Spielen wenn gewünscht neu gemischt. \nEinsatz: CHF 16.–  – Inklusive sind: ein Getränk nach Wahl und ein Play Booster der aktuellsten normalen Edition (Wert CHF 5.00) \nZu den Pods gibt es zufällige Promokarten die noch an Lager sind – wer die gewinnt könnt ihr bestimmen 🙂 \nRules und Banlist findet ihr wenn ihr draufklickt 🙂 \nAnmeldung nicht benötigt\, walk in! 🙂
URL:https://maro-games.ch/event/fnm-commander-night-46/2029-11-02/
LOCATION:MaRo Games\, Hauptstrasse 11\, Birsfelden\, Schweiz
CATEGORIES:Magic
ATTACH;FMTTYPE=image/jpeg:https://maro-games.ch/wp-content/uploads/2024/06/commander.jpg
ORGANIZER;CN="MaRo Games":MAILTO:info@maro-games.ch
END:VEVENT
BEGIN:VEVENT
DTSTART;TZID=Europe/Zurich:20291109T190000
DTEND;TZID=Europe/Zurich:20291109T230000
DTSTAMP:20260425T055219
CREATED:20250619T204506Z
LAST-MODIFIED:20250619T204506Z
UID:10000576-1888945200-1888959600@maro-games.ch
SUMMARY:FNM Commander Night
DESCRIPTION:Welcome zu unserer Commander Night! \nAb 19:00 wird EDH Commander gespielt – die Pods werden on the fly zufällig oder nach Deckstärke anhand der Vorlieben der Anwesenden Spielern gemacht und nach beendeten Spielen wenn gewünscht neu gemischt. \nEinsatz: CHF 16.–  – Inklusive sind: ein Getränk nach Wahl und ein Play Booster der aktuellsten normalen Edition (Wert CHF 5.00) \nZu den Pods gibt es zufällige Promokarten die noch an Lager sind – wer die gewinnt könnt ihr bestimmen 🙂 \nRules und Banlist findet ihr wenn ihr draufklickt 🙂 \nAnmeldung nicht benötigt\, walk in! 🙂
URL:https://maro-games.ch/event/fnm-commander-night-46/2029-11-09/
LOCATION:MaRo Games\, Hauptstrasse 11\, Birsfelden\, Schweiz
CATEGORIES:Magic
ATTACH;FMTTYPE=image/jpeg:https://maro-games.ch/wp-content/uploads/2024/06/commander.jpg
ORGANIZER;CN="MaRo Games":MAILTO:info@maro-games.ch
END:VEVENT
BEGIN:VEVENT
DTSTART;TZID=Europe/Zurich:20291116T190000
DTEND;TZID=Europe/Zurich:20291116T230000
DTSTAMP:20260425T055219
CREATED:20250619T204506Z
LAST-MODIFIED:20250619T204506Z
UID:10000577-1889550000-1889564400@maro-games.ch
SUMMARY:FNM Commander Night
DESCRIPTION:Welcome zu unserer Commander Night! \nAb 19:00 wird EDH Commander gespielt – die Pods werden on the fly zufällig oder nach Deckstärke anhand der Vorlieben der Anwesenden Spielern gemacht und nach beendeten Spielen wenn gewünscht neu gemischt. \nEinsatz: CHF 16.–  – Inklusive sind: ein Getränk nach Wahl und ein Play Booster der aktuellsten normalen Edition (Wert CHF 5.00) \nZu den Pods gibt es zufällige Promokarten die noch an Lager sind – wer die gewinnt könnt ihr bestimmen 🙂 \nRules und Banlist findet ihr wenn ihr draufklickt 🙂 \nAnmeldung nicht benötigt\, walk in! 🙂
URL:https://maro-games.ch/event/fnm-commander-night-46/2029-11-16/
LOCATION:MaRo Games\, Hauptstrasse 11\, Birsfelden\, Schweiz
CATEGORIES:Magic
ATTACH;FMTTYPE=image/jpeg:https://maro-games.ch/wp-content/uploads/2024/06/commander.jpg
ORGANIZER;CN="MaRo Games":MAILTO:info@maro-games.ch
END:VEVENT
BEGIN:VEVENT
DTSTART;TZID=Europe/Zurich:20291123T190000
DTEND;TZID=Europe/Zurich:20291123T230000
DTSTAMP:20260425T055219
CREATED:20250619T204506Z
LAST-MODIFIED:20250619T204506Z
UID:10000578-1890154800-1890169200@maro-games.ch
SUMMARY:FNM Commander Night
DESCRIPTION:Welcome zu unserer Commander Night! \nAb 19:00 wird EDH Commander gespielt – die Pods werden on the fly zufällig oder nach Deckstärke anhand der Vorlieben der Anwesenden Spielern gemacht und nach beendeten Spielen wenn gewünscht neu gemischt. \nEinsatz: CHF 16.–  – Inklusive sind: ein Getränk nach Wahl und ein Play Booster der aktuellsten normalen Edition (Wert CHF 5.00) \nZu den Pods gibt es zufällige Promokarten die noch an Lager sind – wer die gewinnt könnt ihr bestimmen 🙂 \nRules und Banlist findet ihr wenn ihr draufklickt 🙂 \nAnmeldung nicht benötigt\, walk in! 🙂
URL:https://maro-games.ch/event/fnm-commander-night-46/2029-11-23/
LOCATION:MaRo Games\, Hauptstrasse 11\, Birsfelden\, Schweiz
CATEGORIES:Magic
ATTACH;FMTTYPE=image/jpeg:https://maro-games.ch/wp-content/uploads/2024/06/commander.jpg
ORGANIZER;CN="MaRo Games":MAILTO:info@maro-games.ch
END:VEVENT
BEGIN:VEVENT
DTSTART;TZID=Europe/Zurich:20291130T190000
DTEND;TZID=Europe/Zurich:20291130T230000
DTSTAMP:20260425T055219
CREATED:20250619T204506Z
LAST-MODIFIED:20250619T204506Z
UID:10000579-1890759600-1890774000@maro-games.ch
SUMMARY:FNM Commander Night
DESCRIPTION:Welcome zu unserer Commander Night! \nAb 19:00 wird EDH Commander gespielt – die Pods werden on the fly zufällig oder nach Deckstärke anhand der Vorlieben der Anwesenden Spielern gemacht und nach beendeten Spielen wenn gewünscht neu gemischt. \nEinsatz: CHF 16.–  – Inklusive sind: ein Getränk nach Wahl und ein Play Booster der aktuellsten normalen Edition (Wert CHF 5.00) \nZu den Pods gibt es zufällige Promokarten die noch an Lager sind – wer die gewinnt könnt ihr bestimmen 🙂 \nRules und Banlist findet ihr wenn ihr draufklickt 🙂 \nAnmeldung nicht benötigt\, walk in! 🙂
URL:https://maro-games.ch/event/fnm-commander-night-46/2029-11-30/
LOCATION:MaRo Games\, Hauptstrasse 11\, Birsfelden\, Schweiz
CATEGORIES:Magic
ATTACH;FMTTYPE=image/jpeg:https://maro-games.ch/wp-content/uploads/2024/06/commander.jpg
ORGANIZER;CN="MaRo Games":MAILTO:info@maro-games.ch
END:VEVENT
END:VCALENDAR