BEGIN:VCALENDAR
VERSION:2.0
PRODID:-//MaRo Games - ECPv6.15.20//NONSGML v1.0//EN
CALSCALE:GREGORIAN
METHOD:PUBLISH
X-ORIGINAL-URL:https://maro-games.ch
X-WR-CALDESC:Veranstaltungen für MaRo Games
REFRESH-INTERVAL;VALUE=DURATION:PT1H
X-Robots-Tag:noindex
X-PUBLISHED-TTL:PT1H
BEGIN:VTIMEZONE
TZID:Europe/Zurich
BEGIN:DAYLIGHT
TZOFFSETFROM:+0100
TZOFFSETTO:+0200
TZNAME:CEST
DTSTART:20250330T010000
END:DAYLIGHT
BEGIN:STANDARD
TZOFFSETFROM:+0200
TZOFFSETTO:+0100
TZNAME:CET
DTSTART:20251026T010000
END:STANDARD
BEGIN:DAYLIGHT
TZOFFSETFROM:+0100
TZOFFSETTO:+0200
TZNAME:CEST
DTSTART:20260329T010000
END:DAYLIGHT
BEGIN:STANDARD
TZOFFSETFROM:+0200
TZOFFSETTO:+0100
TZNAME:CET
DTSTART:20261025T010000
END:STANDARD
BEGIN:DAYLIGHT
TZOFFSETFROM:+0100
TZOFFSETTO:+0200
TZNAME:CEST
DTSTART:20270328T010000
END:DAYLIGHT
BEGIN:STANDARD
TZOFFSETFROM:+0200
TZOFFSETTO:+0100
TZNAME:CET
DTSTART:20271031T010000
END:STANDARD
END:VTIMEZONE
BEGIN:VEVENT
DTSTART;TZID=Europe/Zurich:20260424T190000
DTEND;TZID=Europe/Zurich:20260424T230000
DTSTAMP:20260421T104500
CREATED:20250619T204506Z
LAST-MODIFIED:20250619T204506Z
UID:10000391-1777057200-1777071600@maro-games.ch
SUMMARY:FNM Commander Night
DESCRIPTION:Welcome zu unserer Commander Night! \nAb 19:00 wird EDH Commander gespielt – die Pods werden on the fly zufällig oder nach Deckstärke anhand der Vorlieben der Anwesenden Spielern gemacht und nach beendeten Spielen wenn gewünscht neu gemischt. \nEinsatz: CHF 16.–  – Inklusive sind: ein Getränk nach Wahl und ein Play Booster der aktuellsten normalen Edition (Wert CHF 5.00) \nZu den Pods gibt es zufällige Promokarten die noch an Lager sind – wer die gewinnt könnt ihr bestimmen 🙂 \nRules und Banlist findet ihr wenn ihr draufklickt 🙂 \nAnmeldung nicht benötigt\, walk in! 🙂
URL:https://maro-games.ch/event/fnm-commander-night-46/2026-04-24/
LOCATION:MaRo Games\, Hauptstrasse 11\, Birsfelden\, Schweiz
CATEGORIES:Magic
ATTACH;FMTTYPE=image/jpeg:https://maro-games.ch/wp-content/uploads/2024/06/commander.jpg
ORGANIZER;CN="MaRo Games":MAILTO:info@maro-games.ch
END:VEVENT
BEGIN:VEVENT
DTSTART;TZID=Europe/Zurich:20260424T190000
DTEND;TZID=Europe/Zurich:20260424T230000
DTSTAMP:20260421T104500
CREATED:20251201T075117Z
LAST-MODIFIED:20260105T153850Z
UID:10002134-1777057200-1777071600@maro-games.ch
SUMMARY:Riftbound - Nexus Night
DESCRIPTION:Friday Nexus Night! lets battle! \nTurnierstart: 19:00 \nEinsatz: CHF 15.– \n1 Riftbound Booster pro Spieler \nPrices:   1 Riftbound Pack per Player im Pricepool \nPlus Nexus Night Packs for Top Players \nWICHTIG ANMELDUNG:  über die Rifbound Turnier Seite – jeweils für das aktuelle Turnier anmelden!
URL:https://maro-games.ch/event/riftbound-nexus-night-2/2026-04-24/
CATEGORIES:Riftbound
ATTACH;FMTTYPE=image/jpeg:https://maro-games.ch/wp-content/uploads/2025/11/riftbound.jpg
END:VEVENT
BEGIN:VEVENT
DTSTART;TZID=Europe/Zurich:20260424T190000
DTEND;TZID=Europe/Zurich:20260424T230000
DTSTAMP:20260421T104500
CREATED:20260420T084133Z
LAST-MODIFIED:20260420T084133Z
UID:10002237-1777057200-1777071600@maro-games.ch
SUMMARY:GUNDAM CARD GAME GD04 Release Event - Fri. April 24\, 2026 07:00 PM
DESCRIPTION:Einsatz: 30.-   ( Inklusive 6 Booster GD04  1 x  Participation Pack ) \nFormat  :  Sealed\nTüröffnung : 18.30  \nTurnierstart:  19.00  \nInfos :  https://www.gundam-gcg.com/asia-en/events/release_event_gd04.html \nAnmeldung ; https://www.bandai-tcg-plus.com/event/4930342 \n 
URL:https://maro-games.ch/event/gundam-card-game-gd04-release-event-fri-april-24-2026-0700-pm/
CATEGORIES:Gundam
ATTACH;FMTTYPE=image/webp:https://maro-games.ch/wp-content/uploads/2026/04/GD04-Banner.webp
END:VEVENT
BEGIN:VEVENT
DTSTART;TZID=Europe/Zurich:20260424T190000
DTEND;TZID=Europe/Zurich:20260424T233000
DTSTAMP:20260421T104500
CREATED:20260413T063602Z
LAST-MODIFIED:20260413T063602Z
UID:10002231-1777057200-1777073400@maro-games.ch
SUMMARY:Pokemon - Liga Challenge MaRo Games - 24. April
DESCRIPTION:Türöffnung : 18.30 \nTurnierstart : 19.00 \nEinsatz: 10.- SFR ( inklusive 1 aktueller Pokemon Booster und 1 Eventbooster ) \nFormat: Standard (best of three) \n. Infos: Die Turniere der Liga-Herausforderung des Pokémon-Sammelkartenspiels sind in der Meisterschaftsserie 2025 wieder dabei! Turniere der Liga-Herausforderung eignen sich hervorragend dazu\, in der Turnierwelt des Pokémon-Sammelkartenspiels Fuß zu fassen. Bei diesen Events handelt es sich um kleinere Einstiegsevents auf lokaler Ebene\, die in den meisten Play! Pokémon Stores abgehalten werden. In den Turnieren der Liga-Herausforderung des Pokémon-Sammelkartenspiels können Spieler Championship Points erhalten und sich so eine Einladung zu den Weltmeisterschaften erarbeiten! Liga-Herausforderungen sind eng mit Liga-Cups verwandt\, die zwar seltener\, aber an ähnlichen Orten ausgetragen werden\, und bieten Spielern\, die einen zusätzlichen Wettbewerb suchen\, eine höhere Championship-Point-Auszahlung. Um teilnehmen zu können\, müssen die Spieler ein Pokémon-Trainer-Club-Konto besitzen\, einen guten Ruf beim Play! Pokémon-Programm haben. Spieler müssen ihr eigenes zulässiges Deck bestehend aus 60 Karten mitbringen. Die Registrierung für diese Events erfolgt über den Turnierveranstalter. Spieler müssen ein Pokémon-Trainer-Club-Konto besitzen\, das mit einer Spieler-ID verknüpft ist. Außerdem müssen Spieler für das Play! Pokémon-Programm eingeschrieben sein\, um Points und Preise erhalten zu können. Alle Teilnehmer erhalten allein fürs Spielen 1 Play! Point.
URL:https://maro-games.ch/event/pokemon-liga-challenge-maro-games-24-april/
LOCATION:MaRo Games\, Hauptstrasse 11\, Birsfelden\, Schweiz
CATEGORIES:Pokemon
ATTACH;FMTTYPE=image/jpeg:https://maro-games.ch/wp-content/uploads/2024/07/images.jpg
ORGANIZER;CN="MaRo Games":MAILTO:info@maro-games.ch
END:VEVENT
BEGIN:VEVENT
DTSTART;TZID=Europe/Zurich:20260424T190000
DTEND;TZID=Europe/Zurich:20260424T233000
DTSTAMP:20260421T104500
CREATED:20260420T173005Z
LAST-MODIFIED:20260420T173005Z
UID:10002238-1777057200-1777073400@maro-games.ch
SUMMARY:FNM Draft
DESCRIPTION:Draft at MaRo Games ! \nLaden geöffnet ab 18:30 \nTurnierstart: 19:00 \nEinsatz: CHF 28.–  Draft aktuelles Limited Format.\nAndere Sets nach Wunsch mit Preisanpassung \nTische werden soweit möglich auf 8er Pods aufgeteilt \nFix 3 Runden – mit folgender Preisverteilung nach Punkten:\n(MaRo Credits in entsprechender Relation möglich –  1 Booster = 5 Credits) \n\n\n\nCredits\nPunkte\n\n\n30\n9\n\n\n20\n7\n\n\n10\n6
URL:https://maro-games.ch/event/fnm-draft-67/
LOCATION:MaRo Games\, Hauptstrasse 11\, Birsfelden\, Schweiz
CATEGORIES:Magic
ATTACH;FMTTYPE=image/jpeg:https://maro-games.ch/wp-content/uploads/2024/06/draft.jpg
ORGANIZER;CN="MaRo Games":MAILTO:info@maro-games.ch
END:VEVENT
END:VCALENDAR