BEGIN:VCALENDAR
VERSION:2.0
PRODID:-//MaRo Games - ECPv6.15.20//NONSGML v1.0//EN
CALSCALE:GREGORIAN
METHOD:PUBLISH
X-ORIGINAL-URL:https://maro-games.ch
X-WR-CALDESC:Veranstaltungen für MaRo Games
REFRESH-INTERVAL;VALUE=DURATION:PT1H
X-Robots-Tag:noindex
X-PUBLISHED-TTL:PT1H
BEGIN:VTIMEZONE
TZID:Europe/Zurich
BEGIN:DAYLIGHT
TZOFFSETFROM:+0100
TZOFFSETTO:+0200
TZNAME:CEST
DTSTART:20250330T010000
END:DAYLIGHT
BEGIN:STANDARD
TZOFFSETFROM:+0200
TZOFFSETTO:+0100
TZNAME:CET
DTSTART:20251026T010000
END:STANDARD
BEGIN:DAYLIGHT
TZOFFSETFROM:+0100
TZOFFSETTO:+0200
TZNAME:CEST
DTSTART:20260329T010000
END:DAYLIGHT
BEGIN:STANDARD
TZOFFSETFROM:+0200
TZOFFSETTO:+0100
TZNAME:CET
DTSTART:20261025T010000
END:STANDARD
BEGIN:DAYLIGHT
TZOFFSETFROM:+0100
TZOFFSETTO:+0200
TZNAME:CEST
DTSTART:20270328T010000
END:DAYLIGHT
BEGIN:STANDARD
TZOFFSETFROM:+0200
TZOFFSETTO:+0100
TZNAME:CET
DTSTART:20271031T010000
END:STANDARD
END:VTIMEZONE
BEGIN:VEVENT
DTSTART;TZID=Europe/Zurich:20260220T190000
DTEND;TZID=Europe/Zurich:20260220T230000
DTSTAMP:20260420T002739
CREATED:20250619T204506Z
LAST-MODIFIED:20250619T204506Z
UID:10000382-1771614000-1771628400@maro-games.ch
SUMMARY:FNM Commander Night
DESCRIPTION:Welcome zu unserer Commander Night! \nAb 19:00 wird EDH Commander gespielt – die Pods werden on the fly zufällig oder nach Deckstärke anhand der Vorlieben der Anwesenden Spielern gemacht und nach beendeten Spielen wenn gewünscht neu gemischt. \nEinsatz: CHF 16.–  – Inklusive sind: ein Getränk nach Wahl und ein Play Booster der aktuellsten normalen Edition (Wert CHF 5.00) \nZu den Pods gibt es zufällige Promokarten die noch an Lager sind – wer die gewinnt könnt ihr bestimmen 🙂 \nRules und Banlist findet ihr wenn ihr draufklickt 🙂 \nAnmeldung nicht benötigt\, walk in! 🙂
URL:https://maro-games.ch/event/fnm-commander-night-46/2026-02-20/
LOCATION:MaRo Games\, Hauptstrasse 11\, Birsfelden\, Schweiz
CATEGORIES:Magic
ATTACH;FMTTYPE=image/jpeg:https://maro-games.ch/wp-content/uploads/2024/06/commander.jpg
ORGANIZER;CN="MaRo Games":MAILTO:info@maro-games.ch
END:VEVENT
BEGIN:VEVENT
DTSTART;TZID=Europe/Zurich:20260220T190000
DTEND;TZID=Europe/Zurich:20260220T230000
DTSTAMP:20260420T002739
CREATED:20251201T075117Z
LAST-MODIFIED:20260105T153850Z
UID:10002156-1771614000-1771628400@maro-games.ch
SUMMARY:Riftbound - Nexus Night
DESCRIPTION:Friday Nexus Night! lets battle! \nTurnierstart: 19:00 \nEinsatz: CHF 15.– \n1 Riftbound Booster pro Spieler \nPrices:   1 Riftbound Pack per Player im Pricepool \nPlus Nexus Night Packs for Top Players \nWICHTIG ANMELDUNG:  über die Rifbound Turnier Seite – jeweils für das aktuelle Turnier anmelden!
URL:https://maro-games.ch/event/riftbound-nexus-night-2/2026-02-20/
CATEGORIES:Riftbound
ATTACH;FMTTYPE=image/jpeg:https://maro-games.ch/wp-content/uploads/2025/11/riftbound.jpg
END:VEVENT
BEGIN:VEVENT
DTSTART;TZID=Europe/Zurich:20260220T190000
DTEND;TZID=Europe/Zurich:20260220T230000
DTSTAMP:20260420T002739
CREATED:20260211T073158Z
LAST-MODIFIED:20260217T214954Z
UID:10002181-1771614000-1771628400@maro-games.ch
SUMMARY:Lorwyn Store Champs  - Format Standard  20.2.
DESCRIPTION:ACHTUNG Turnier findet nur statt bei mindestens 6  registrierten Teilnehmern !\nTurnierstart: 19:00 \nEinsatz: CHF 15.– \n4 rounds for 9 or more players \n( *3 rounds for 8 or fewer players ) \n\n\n\nMaRo Credits\nPunkte\n\n\n40\n12\n\n\n25\n10\n\n\n15\n9\n\n\n\nFormat Standard: \nhttps://magic.wizards.com/de/formats/standard \nStore Championship is the culminating event of the season for Standard players. They can refine their decks and strategies throughout the season at weekly Standard Showdown events to prepare for this next-level challenge—and earn bragworthy prizes. \n\n\nPreise:\n\n1. Platz: Ocelot Pride in FOIL\nTop 8: Guide of Souls in FOIL\nTeilnehmer-Promo: Goblin Bombardment 
URL:https://maro-games.ch/event/lorwyn-store-champs-format-standard-20-2/
LOCATION:MaRo Games\, Hauptstrasse 11\, Birsfelden\, Schweiz
CATEGORIES:Magic
ATTACH;FMTTYPE=image/webp:https://maro-games.ch/wp-content/uploads/2026/02/1769714671249_rnpe8kqm_grande.webp
ORGANIZER;CN="MaRo Games":MAILTO:info@maro-games.ch
END:VEVENT
BEGIN:VEVENT
DTSTART;TZID=Europe/Zurich:20260220T190000
DTEND;TZID=Europe/Zurich:20260220T233000
DTSTAMP:20260420T002739
CREATED:20260218T122743Z
LAST-MODIFIED:20260218T122743Z
UID:10002188-1771614000-1771630200@maro-games.ch
SUMMARY:FNM Draft
DESCRIPTION:Draft at MaRo Games ! \nLaden geöffnet ab 18:30 \nTurnierstart: 19:00 \nEinsatz: CHF 28.–  Draft aktuelles Limited Format.\nAndere Sets nach Wunsch mit Preisanpassung \nTische werden soweit möglich auf 8er Pods aufgeteilt \nFix 3 Runden – mit folgender Preisverteilung nach Punkten:\n(MaRo Credits in entsprechender Relation möglich –  1 Booster = 5 Credits) \n\n\n\nCredits\nPunkte\n\n\n30\n9\n\n\n20\n7\n\n\n10\n6
URL:https://maro-games.ch/event/fnm-draft-61/
LOCATION:MaRo Games\, Hauptstrasse 11\, Birsfelden\, Schweiz
CATEGORIES:Magic
ATTACH;FMTTYPE=image/jpeg:https://maro-games.ch/wp-content/uploads/2024/06/draft.jpg
ORGANIZER;CN="MaRo Games":MAILTO:info@maro-games.ch
END:VEVENT
END:VCALENDAR