BEGIN:VCALENDAR
VERSION:2.0
PRODID:-//MaRo Games - ECPv6.15.20//NONSGML v1.0//EN
CALSCALE:GREGORIAN
METHOD:PUBLISH
X-ORIGINAL-URL:https://maro-games.ch
X-WR-CALDESC:Veranstaltungen für MaRo Games
REFRESH-INTERVAL;VALUE=DURATION:PT1H
X-Robots-Tag:noindex
X-PUBLISHED-TTL:PT1H
BEGIN:VTIMEZONE
TZID:Europe/Zurich
BEGIN:DAYLIGHT
TZOFFSETFROM:+0100
TZOFFSETTO:+0200
TZNAME:CEST
DTSTART:20230326T010000
END:DAYLIGHT
BEGIN:STANDARD
TZOFFSETFROM:+0200
TZOFFSETTO:+0100
TZNAME:CET
DTSTART:20231029T010000
END:STANDARD
BEGIN:DAYLIGHT
TZOFFSETFROM:+0100
TZOFFSETTO:+0200
TZNAME:CEST
DTSTART:20240331T010000
END:DAYLIGHT
BEGIN:STANDARD
TZOFFSETFROM:+0200
TZOFFSETTO:+0100
TZNAME:CET
DTSTART:20241027T010000
END:STANDARD
BEGIN:DAYLIGHT
TZOFFSETFROM:+0100
TZOFFSETTO:+0200
TZNAME:CEST
DTSTART:20250330T010000
END:DAYLIGHT
BEGIN:STANDARD
TZOFFSETFROM:+0200
TZOFFSETTO:+0100
TZNAME:CET
DTSTART:20251026T010000
END:STANDARD
END:VTIMEZONE
BEGIN:VEVENT
DTSTART;TZID=Europe/Zurich:20240927T190000
DTEND;TZID=Europe/Zurich:20240927T230000
DTSTAMP:20260423T132021
CREATED:20240921T044815Z
LAST-MODIFIED:20240921T044815Z
UID:10000109-1727463600-1727478000@maro-games.ch
SUMMARY:FNM Commander Night
DESCRIPTION:Welcome zu unserer Commander Night! \nAb 19:00 wird EDH Commander gespielt – die Pods werden on the fly zufällig oder nach Deckstärke anhand der Vorlieben der Anwesenden Spielern gemacht und nach beendeten Spielen wenn gewünscht neu gemischt. \nEinsatz: CHF 16.–  – Inklusive sind: ein Getränk nach Wahl und ein Play Booster der aktuellsten normalen Edition (Wert CHF 5.00) \nZu den Pods gibt es zufällige Promokarten die noch an Lager sind – wer die gewinnt könnt ihr bestimmen 🙂 \nRules und Banlist findet ihr wenn ihr draufklickt 🙂
URL:https://maro-games.ch/event/fnm-commander-night-10/
LOCATION:MaRo Games\, Hauptstrasse 11\, Birsfelden\, Schweiz
CATEGORIES:Magic
ATTACH;FMTTYPE=image/jpeg:https://maro-games.ch/wp-content/uploads/2024/06/commander.jpg
ORGANIZER;CN="MaRo Games":MAILTO:info@maro-games.ch
END:VEVENT
BEGIN:VEVENT
DTSTART;TZID=Europe/Zurich:20240927T190000
DTEND;TZID=Europe/Zurich:20240927T230000
DTSTAMP:20260423T132021
CREATED:20240921T045001Z
LAST-MODIFIED:20240921T045001Z
UID:10000110-1727463600-1727478000@maro-games.ch
SUMMARY:FNM Draft
DESCRIPTION:Draft at MaRo Games ! \nLaden geöffnet ab 18:30 \nTurnierstart: 19:00 \nEinsatz: CHF 28.–  Draft aktuelles Limited Format.\nAndere Sets nach Wunsch mit Preisanpassung \nTische werden soweit möglich auf 8er Pods aufgeteilt \nFix 3 Runden – mit folgender Preisverteilung nach Punkten:\n(MaRo Credits in entsprechender Relation möglich –  1 Booster = 5 Credits) \n\n\n\nBooster\nPunkte\n\n\n6\n9\n\n\n4\n7\n\n\n2\n6
URL:https://maro-games.ch/event/fnm-draft-9/
LOCATION:MaRo Games\, Hauptstrasse 11\, Birsfelden\, Schweiz
CATEGORIES:Magic
ATTACH;FMTTYPE=image/jpeg:https://maro-games.ch/wp-content/uploads/2024/06/draft.jpg
ORGANIZER;CN="MaRo Games":MAILTO:info@maro-games.ch
END:VEVENT
BEGIN:VEVENT
DTSTART;TZID=Europe/Zurich:20240927T190000
DTEND;TZID=Europe/Zurich:20240927T230000
DTSTAMP:20260423T132021
CREATED:20240926T112437Z
LAST-MODIFIED:20240926T112642Z
UID:10000111-1727463600-1727478000@maro-games.ch
SUMMARY:Modern Weekly
DESCRIPTION:Turnier zählt auch  zur MaRo Play Liga Wertung . \nTurnierstart: 19:00 \nEinsatz: CHF 15.– \nFix 4 Runden mit folgender Preisverteilung: \n\n\n\nMaRo Credits\nPunkte\n\n\n40\n12\n\n\n25\n10\n\n\n15\n9\n\n\n\nFormat Modern: \nhttp://magic.wizards.com/en/game-info/gameplay/formats/modern
URL:https://maro-games.ch/event/modern-weekly-7/
LOCATION:MaRo Games\, Hauptstrasse 11\, Birsfelden\, Schweiz
CATEGORIES:Magic
ATTACH;FMTTYPE=image/avif:https://maro-games.ch/wp-content/uploads/2024/06/mtg-modern.avif
ORGANIZER;CN="MaRo Games":MAILTO:info@maro-games.ch
END:VEVENT
END:VCALENDAR