BEGIN:VCALENDAR
VERSION:2.0
PRODID:-//MaRo Games - ECPv6.15.20//NONSGML v1.0//EN
CALSCALE:GREGORIAN
METHOD:PUBLISH
X-WR-CALNAME:MaRo Games
X-ORIGINAL-URL:https://maro-games.ch
X-WR-CALDESC:Veranstaltungen für MaRo Games
REFRESH-INTERVAL;VALUE=DURATION:PT1H
X-Robots-Tag:noindex
X-PUBLISHED-TTL:PT1H
BEGIN:VTIMEZONE
TZID:Europe/Zurich
BEGIN:DAYLIGHT
TZOFFSETFROM:+0100
TZOFFSETTO:+0200
TZNAME:CEST
DTSTART:20230326T010000
END:DAYLIGHT
BEGIN:STANDARD
TZOFFSETFROM:+0200
TZOFFSETTO:+0100
TZNAME:CET
DTSTART:20231029T010000
END:STANDARD
BEGIN:DAYLIGHT
TZOFFSETFROM:+0100
TZOFFSETTO:+0200
TZNAME:CEST
DTSTART:20240331T010000
END:DAYLIGHT
BEGIN:STANDARD
TZOFFSETFROM:+0200
TZOFFSETTO:+0100
TZNAME:CET
DTSTART:20241027T010000
END:STANDARD
BEGIN:DAYLIGHT
TZOFFSETFROM:+0100
TZOFFSETTO:+0200
TZNAME:CEST
DTSTART:20250330T010000
END:DAYLIGHT
BEGIN:STANDARD
TZOFFSETFROM:+0200
TZOFFSETTO:+0100
TZNAME:CET
DTSTART:20251026T010000
END:STANDARD
END:VTIMEZONE
BEGIN:VEVENT
DTSTART;TZID=Europe/Zurich:20240901T160000
DTEND;TZID=Europe/Zurich:20240901T200000
DTSTAMP:20260423T131632
CREATED:20240826T064818Z
LAST-MODIFIED:20240826T064902Z
UID:10000064-1725206400-1725220800@maro-games.ch
SUMMARY:Pokemon Prerelease Stellar Crown ( Stellarkrone) 1.9.24
DESCRIPTION:Türöffnung: 15.30 \nTurnierstart : 16.00 \nEinsatz : 30.- SFR \nPrerelease Packs auf Deutsch \nIhr erhaltet an diesem Tag ein Build and Battle Kit zu dem brandneuen Pokémon Set Stellar Crown In diesem Kit findet ihr: Entwicklungskit mit Promokarte (Dient zum Deckbau) Vier Booster Pokémon Stellar Crown Spielanleitung Zusätzlich erhält jeder Teilnehmer am Ende des Turniers drei weitere Booster von Stellar Crown Zusätzlich Pro Teilnehmer gibt es noch ein Eventpack auf Englisch am Ende des Turniers. Karten auf Deutsch ACHTUNG Limitierte Platzzahl – Anmeldung über unsere Homepage empfohlen . Für Teilnahme braucht es einen Pokemon Account welcher über folgenden Link erstellt werden kann: https://club.pokemon.com/de/pokemon-trainer-club/anmelden/
URL:https://maro-games.ch/event/pokemon-prerelease-stellar-crown-stellarkrone/
LOCATION:MaRo Games\, Hauptstrasse 11\, Birsfelden\, Schweiz
CATEGORIES:Pokemon
ATTACH;FMTTYPE=image/webp:https://maro-games.ch/wp-content/uploads/2024/08/prerelease.webp
END:VEVENT
END:VCALENDAR